Workbook
Name _MES1: 'Dnevna časovnica'!$I$21
Name BOL: 'Dnevna časovnica'!$L$175
Name BOL_PR: 'Dnevna časovnica'!$AH$140
Name BRUTO: 'Dnevna časovnica'!$L$160
Name BRUTO_LETNI: 'Dnevna časovnica'!$L$159
Name DDOWN: 'Dnevna časovnica'!$AL$28:INDEX('Dnevna časovnica'!$AL$28:$AL$51,COUNTIF('Dnevna časovnica'!$AL$28:$AL$51,"?*"))
Name DDOWN2: 'Dnevna časovnica'!$HL$28:INDEX('Dnevna časovnica'!$HL$28:$HL$51,COUNTIF('Dnevna časovnica'!$HL$28:$HL$51,"?*"))
Name DDW_DS: 'Dnevna časovnica'!$EA$28:INDEX('Dnevna časovnica'!$EA$28:$EA$45,COUNTIF('Dnevna časovnica'!$EA$28:$EA$45,"?*"))
Name DDWN_DS: 'Dnevna časovnica'!$EA$28:INDEX('Dnevna časovnica'!$EA$28:$EA$53,COUNTIF('Dnevna časovnica'!$EA$28:$EA$53,"?*"))
Name DODNAD_RD: 'Dnevna časovnica'!$BF$48
Name DODNAD1: 'Dnevna časovnica'!$BF$28
Name DODNAD10: 'Dnevna časovnica'!$BF$39
Name DODNAD11: 'Dnevna časovnica'!$BF$40
Name DODNAD12: 'Dnevna časovnica'!$BF$41
Name DODNAD13: 'Dnevna časovnica'!$BF$42
Name DODNAD14: 'Dnevna časovnica'!$BF$43
Name DODNAD15: 'Dnevna časovnica'!$BF$44
Name DODNAD16: 'Dnevna časovnica'!$BF$45
Name DODNAD17: 'Dnevna časovnica'!$BF$46
Name DODNAD18: 'Dnevna časovnica'!$BF$47
Name DODNAD2: 'Dnevna časovnica'!$BF$31
Name DODNAD3: 'Dnevna časovnica'!$BF$32
Name DODNAD4: 'Dnevna časovnica'!$BF$33
Name DODNAD5: 'Dnevna časovnica'!$BF$34
Name DODNAD6: 'Dnevna časovnica'!$BF$35
Name DODNAD7: 'Dnevna časovnica'!$BF$36
Name DODNAD8: 'Dnevna časovnica'!$BF$37
Name DODNAD9: 'Dnevna časovnica'!$BF$38
Name DS_HRPOST: #REF!
Name EUR_NADUR: 'Dnevna časovnica'!$L$161
Name HR_POSTAVKA: 'Dnevna časovnica'!$L$177
Name LETNA_HR_POSTAVKA: 'Dnevna časovnica'!$L$179
Name MES: 'Dnevna časovnica'!$I$21
Name MES_FOND_HR: 'Dnevna časovnica'!$L$174
Name Nadure: 'Dnevna časovnica'!$BE$51
Name Nadure_Redno: 'Dnevna časovnica'!$BE$48
Name Nadurno1: 'Dnevna časovnica'!$BE$28
Name Nadurno10: 'Dnevna časovnica'!$BE$39
Name Nadurno11: 'Dnevna časovnica'!$BE$40
Name Nadurno12: 'Dnevna časovnica'!$BE$41
Name Nadurno13: 'Dnevna časovnica'!$BE$42
Name Nadurno14: 'Dnevna časovnica'!$BE$43
Name Nadurno15: 'Dnevna časovnica'!$BE$44
Name Nadurno16: 'Dnevna časovnica'!$BE$45
Name Nadurno17: 'Dnevna časovnica'!$BE$46
Name Nadurno18: 'Dnevna časovnica'!$BE$47
Name Nadurno2: 'Dnevna časovnica'!$BE$31
Name Nadurno3: 'Dnevna časovnica'!$BE$32
Name Nadurno4: 'Dnevna časovnica'!$BE$33
Name Nadurno5: 'Dnevna časovnica'!$BE$34
Name Nadurno6: 'Dnevna časovnica'!$BE$35
Name Nadurno7: 'Dnevna časovnica'!$BE$36
Name Nadurno8: 'Dnevna časovnica'!$BE$37
Name Nadurno9: 'Dnevna časovnica'!$BE$38
Name NEREF: 'Dnevna časovnica'!$K$140
Name PR_HR: 'Dnevna časovnica'!$R$191
Name PR_HR10: 'Dnevna časovnica'!$R$209
Name PR_HR11: 'Dnevna časovnica'!$R$211
Name PR_HR12: 'Dnevna časovnica'!$R$213
Name PR_HR13: 'Dnevna časovnica'!$R$215

Sheet Dnevna časovnica
AG3: var: | AH3: =COUNTIF(I28:P47,AG22) -> 0
AG4: fix: | AH4: =COUNTIF(I28:P47,AG23) -> 0
C8: DNEVNA ČASOVNICA ZAPOSLENEGA NA PROJEKTU
D11: I. SPLOŠNI PODATKI
D13: Ime in priimek
D14: Program sodelovanja
D15: Naziv projekta
D16: Vloga na projektu
D17: Redno zaposlen pri
D19: Obračunsko obdobje
AI20: Mesečna urna postavka
D21: Mesec | I21: =D54 -> 0 | AI21: Letna urna postavka
D22: Leto | I22: =D54 -> 0 | AG22: Delno zaposlen z variabilnim %
AG23: Delno zaposlen s fiksnim %
D24: Seznam projektov in način obračunavanja stroškov dela | AM24: {=$AL$28:INDEX($AL$28:$AL$47,COUNTIF($AL$28:$AL$47,"?*"))} -> DOPUST
D25: Število ur, ki se ne nanaša na projektno delo: | AC25: =+AC135 -> 0
D27: Zap. št. | E27: Naziv projekta | I27: Način obračunavanja stroškov dela | Q27: Metoda urne postavke | V27: Delež razporeditve na projektu | AH27: Spremenljiv Dropdown | AI27: {=$E$28:INDEX($E$28:$E$47,COUNTIF($E$28:$E$47,"?*"))} -> 0 | AK27: Projekti s variabilnim % | AL27: Projekti z V% - urejeni | AM27: {=$AL$28:INDEX($AL$28:$AL$53,COUNTIF($AL$28:$AL$53,"?*"))} -> DOPUST | BD27: REDNE PROJEKTNE URE | BE27: Nadurno delo | BF27: =IFERROR(($L$161*(1+L162))/BE51,0) -> 0 | BG27: =+HR_POSTAVKA | DZ27: SPUSTNI SEZNAM ZA DS: | EA27: {=$EA$28:INDEX($EA$28:$EA$45,COUNTIF($EA$28:$EA$45,"?*"))} -> 0 | HK27: vsi projekti | HL27: VSI PROJEKTI UREJENI | HM27: {='Dnevna časovnica'!$HL$28:INDEX('Dnevna časovnica'!$HL$28:$HL$51,COUNTIF('Dnevna časovnica'!$HL$28:$HL$51,"?*"))} -> Nadure rednega dela
D28: =IF(E28>0,1,"") | AG28: =IF(I28="Delno zaposlen z variabilnim %",$AI$20,IF(I28="Delno zaposlen s fiksnim %","Delež na projektu","")) | AH28: =IF(I28="Delno zaposlen z variabilnim %",$AI$21,"") | AK28: =IF(I28=$AG$22,E28,"") | AL28: {=IFERROR(IF(ROWS(AL$28:AL28)>COUNTA($AK$28:$AK$54),"",INDEX($AK$28:$AK$54,SMALL(IF($AK$28:$AK$73<>"",ROW(AK$28:AK$54)-ROW($AK$28)+1),ROWS(AL$28:AL28)))),"")} -> DOPUST | AY28: Delno zaposlen s fiksnim % | AZ28: =SUMIF(I28:I47,"Delno zaposlen s fiksnim %",V28:V47) -> 0 | BD28: =SUMIFS($I$54:$I$133,$H$54:$H$133,E28,$BE$54:$BE$133,0) -> 0 | BE28: =SUMIFS($I$54:$I$133,$H$54:$H$133,E28,$AC$54:$AC$133,$BE$27) -> 0 | BF28: =IFERROR($BF$27*BE28,0) -> 0 | BG28: =+BE28*HR_POSTAVKA -> #VALUE! | DZ28: =+E28 -> 0 | EA28: {=IFERROR(IF(ROWS(EA$28:EA28)>COUNTA($DZ$28:$DZ$45),"",INDEX($DZ$28:$DZ$45,SMALL(IF($DZ$28:$DZ$73<>"",ROW(DZ$28:DZ$45)-ROW($DZ$28)+1),ROWS(EA$28:EA28)))),"")} -> 0 | HK28: =IF(I28>0,E28,"") | HL28: {=IFERROR(IF(ROWS(HL$28:HL28)>COUNTA($HK$28:$HK$54),"",INDEX($HK$28:$HK$54,SMALL(IF($HK$28:$HK$73<>"",ROW(HK$28:HK$54)-ROW($HK$28)+1),ROWS(HL$28:HL28)))),"")} -> Nadure rednega dela
AG29: =IF(I29="Delno zaposlen z variabilnim %",$AI$20,IF(I29="Delno zaposlen s fiksnim %","Delež na projektu","")) | AH29: =IF(I29="Delno zaposlen z variabilnim %",$AI$21,"") | AK29: =IF(I29=$AG$22,E29,"") | AL29: {=IFERROR(IF(ROWS(AL$28:AL29)>COUNTA($AK$28:$AK$54),"",INDEX($AK$28:$AK$54,SMALL(IF($AK$28:$AK$73<>"",ROW(AK$28:AK$54)-ROW($AK$28)+1),ROWS(AL$28:AL29)))),"")} -> BOLNIŠKA | BD29: =SUMIFS($I$54:$I$133,$H$54:$H$133,E29,$BE$54:$BE$133,0) -> 0 | BE29: =SUMIFS($I$54:$I$133,$H$54:$H$133,E29,$AC$54:$AC$133,$BE$27) -> 0 | BF29: =+$BF$27*BE29 -> 0 | BG29: =+BE29*HR_POSTAVKA -> #VALUE! | DZ29: =+E31 -> 0 | EA29: {=IFERROR(IF(ROWS(EA$28:EA29)>COUNTA($DZ$28:$DZ$45),"",INDEX($DZ$28:$DZ$45,SMALL(IF($DZ$28:$DZ$73<>"",ROW(DZ$28:DZ$45)-ROW($DZ$28)+1),ROWS(EA$28:EA29)))),"")} -> 0 | HK29: =IF(I29>0,E29,"") | HL29: {=IFERROR(IF(ROWS(HL$28:HL29)>COUNTA($HK$28:$HK$54),"",INDEX($HK$28:$HK$54,SMALL(IF($HK$28:$HK$73<>"",ROW(HK$28:HK$54)-ROW($HK$28)+1),ROWS(HL$28:HL29)))),"")}
AG30: =IF(I30="Delno zaposlen z variabilnim %",$AI$20,IF(I30="Delno zaposlen s fiksnim %","Delež na projektu","")) | AH30: =IF(I30="Delno zaposlen z variabilnim %",$AI$21,"") | AK30: =IF(I30=$AG$22,E30,"") | AL30: {=IFERROR(IF(ROWS(AL$28:AL30)>COUNTA($AK$28:$AK$54),"",INDEX($AK$28:$AK$54,SMALL(IF($AK$28:$AK$73<>"",ROW(AK$28:AK$54)-ROW($AK$28)+1),ROWS(AL$28:AL30)))),"")} -> PRAZNIK | BD30: =SUMIFS($I$54:$I$133,$H$54:$H$133,E30,$BE$54:$BE$133,0) -> 0 | BE30: =SUMIFS($I$54:$I$133,$H$54:$H$133,E30,$AC$54:$AC$133,$BE$27) -> 0 | BF30: =+$BF$27*BE30 -> 0 | BG30: =+BE30*HR_POSTAVKA -> #VALUE! | DZ30: =+E32 -> 0 | EA30: {=IFERROR(IF(ROWS(EA$28:EA30)>COUNTA($DZ$28:$DZ$45),"",INDEX($DZ$28:$DZ$45,SMALL(IF($DZ$28:$DZ$73<>"",ROW(DZ$28:DZ$45)-ROW($DZ$28)+1),ROWS(EA$28:EA30)))),"")} -> 0 | HK30: =IF(I30>0,E30,"") | HL30: {=IFERROR(IF(ROWS(HL$28:HL30)>COUNTA($HK$28:$HK$54),"",INDEX($HK$28:$HK$54,SMALL(IF($HK$28:$HK$73<>"",ROW(HK$28:HK$54)-ROW($HK$28)+1),ROWS(HL$28:HL30)))),"")}
D31: =IF(E31>0,D28+1,"") | AG31: =IF(I31="Delno zaposlen z variabilnim %",$AI$20,IF(I31="Delno zaposlen s fiksnim %","Delež na projektu","")) | AH31: =IF(I31="Delno zaposlen z variabilnim %",$AI$21,"") | AJ31: =IF(OR($Q$28:$Q$47="Letna urna postavka"),"Letna Bruto plača (BRUTO I)","ni letne") -> ni letne | AK31: =IF(I31=$AG$22,E31,"") | AL31: {=IFERROR(IF(ROWS(AL$28:AL31)>COUNTA($AK$28:$AK$54),"",INDEX($AK$28:$AK$54,SMALL(IF($AK$28:$AK$73<>"",ROW(AK$28:AK$54)-ROW($AK$28)+1),ROWS(AL$28:AL31)))),"")} -> DRUGA REFUNDIRANA NADOMESTILA | AY31: Delno zaposlen z variabilnim % | AZ31: =SUMIF(I28:I47,"Delno zaposlen z variabilnim %",V28:V47) -> 0 | BD31: =SUMIFS($I$54:$I$133,$H$54:$H$133,E31,$BE$54:$BE$133,0) -> 0 | BE31: =SUMIFS($I$54:$I$133,$H$54:$H$133,E31,$AC$54:$AC$133,$BE$27) -> 0 | BF31: =IFERROR($BF$27*BE31,0) -> 0 | BG31: =+BE31*HR_POSTAVKA -> #VALUE! | DZ31: =+E33 -> 0 | EA31: {=IFERROR(IF(ROWS(EA$28:EA31)>COUNTA($DZ$28:$DZ$45),"",INDEX($DZ$28:$DZ$45,SMALL(IF($DZ$28:$DZ$73<>"",ROW(DZ$28:DZ$45)-ROW($DZ$28)+1),ROWS(EA$28:EA31)))),"")} -> 0 | HK31: =IF(I31>0,E31,"") | HL31: {=IFERROR(IF(ROWS(HL$28:HL31)>COUNTA($HK$28:$HK$54),"",INDEX($HK$28:$HK$54,SMALL(IF($HK$28:$HK$73<>"",ROW(HK$28:HK$54)-ROW($HK$28)+1),ROWS(HL$28:HL31)))),"")}
D32: =IF(E32>0,D31+1,"") | AG32: =IF(I32="Delno zaposlen z variabilnim %",$AI$20,IF(I32="Delno zaposlen s fiksnim %","Delež na projektu","")) | AH32: =IF(I32="Delno zaposlen z variabilnim %",$AI$21,"") | AJ32: =IF(OR($Q$28:$Q$47="Letna urna postavka"),"Letna Bruto plača (BRUTO I)","ni letne") -> ni letne | AK32: =IF(I32=$AG$22,E32,"") | AL32: {=IFERROR(IF(ROWS(AL$28:AL32)>COUNTA($AK$28:$AK$54),"",INDEX($AK$28:$AK$54,SMALL(IF($AK$28:$AK$73<>"",ROW(AK$28:AK$54)-ROW($AK$28)+1),ROWS(AL$28:AL32)))),"")} | BD32: =SUMIFS($I$54:$I$133,$H$54:$H$133,E32,$BE$54:$BE$133,0) -> 0 | BE32: =SUMIFS($I$54:$I$133,$H$54:$H$133,E32,$AC$54:$AC$133,$BE$27) -> 0 | BF32: =+$BF$27*BE32 -> 0 | BG32: =+BE32*HR_POSTAVKA -> #VALUE! | DZ32: =+E34 -> 0 | EA32: {=IFERROR(IF(ROWS(EA$28:EA32)>COUNTA($DZ$28:$DZ$45),"",INDEX($DZ$28:$DZ$45,SMALL(IF($DZ$28:$DZ$73<>"",ROW(DZ$28:DZ$45)-ROW($DZ$28)+1),ROWS(EA$28:EA32)))),"")} -> 0 | HK32: =IF(I32>0,E32,"") | HL32: {=IFERROR(IF(ROWS(HL$28:HL32)>COUNTA($HK$28:$HK$54),"",INDEX($HK$28:$HK$54,SMALL(IF($HK$28:$HK$73<>"",ROW(HK$28:HK$54)-ROW($HK$28)+1),ROWS(HL$28:HL32)))),"")}
D33: =IF(E33>0,D32+1,"") | AG33: =IF(I33="Delno zaposlen z variabilnim %",$AI$20,IF(I33="Delno zaposlen s fiksnim %","Delež na projektu","")) | AH33: =IF(I33="Delno zaposlen z variabilnim %",$AI$21,"") | AK33: =IF(I33=$AG$22,E33,"") | AL33: {=IFERROR(IF(ROWS(AL$28:AL33)>COUNTA($AK$28:$AK$54),"",INDEX($AK$28:$AK$54,SMALL(IF($AK$28:$AK$73<>"",ROW(AK$28:AK$54)-ROW($AK$28)+1),ROWS(AL$28:AL33)))),"")} | BD33: =SUMIFS($I$54:$I$133,$H$54:$H$133,E33,$BE$54:$BE$133,0) -> 0 | BE33: =SUMIFS($I$54:$I$133,$H$54:$H$133,E33,$AC$54:$AC$133,$BE$27) -> 0 | BF33: =+$BF$27*BE33 -> 0 | BG33: =+BE33*HR_POSTAVKA -> #VALUE! | DZ33: =+E35 -> 0 | EA33: {=IFERROR(IF(ROWS(EA$28:EA33)>COUNTA($DZ$28:$DZ$45),"",INDEX($DZ$28:$DZ$45,SMALL(IF($DZ$28:$DZ$73<>"",ROW(DZ$28:DZ$45)-ROW($DZ$28)+1),ROWS(EA$28:EA33)))),"")} -> 0 | HK33: =IF(I33>0,E33,"") | HL33: {=IFERROR(IF(ROWS(HL$28:HL33)>COUNTA($HK$28:$HK$54),"",INDEX($HK$28:$HK$54,SMALL(IF($HK$28:$HK$73<>"",ROW(HK$28:HK$54)-ROW($HK$28)+1),ROWS(HL$28:HL33)))),"")}
D34: =IF(E34>0,D33+1,"") | AG34: =IF(I34="Delno zaposlen z variabilnim %",$AI$20,IF(I34="Delno zaposlen s fiksnim %","Delež na projektu","")) | AH34: =IF(I34="Delno zaposlen z variabilnim %",$AI$21,"") | AK34: =IF(I34=$AG$22,E34,"") | AL34: {=IFERROR(IF(ROWS(AL$28:AL34)>COUNTA($AK$28:$AK$54),"",INDEX($AK$28:$AK$54,SMALL(IF($AK$28:$AK$73<>"",ROW(AK$28:AK$54)-ROW($AK$28)+1),ROWS(AL$28:AL34)))),"")} | BD34: =SUMIFS($I$54:$I$133,$H$54:$H$133,E34,$BE$54:$BE$133,0) -> 0 | BE34: =SUMIFS($I$54:$I$133,$H$54:$H$133,E34,$AC$54:$AC$133,$BE$27) -> 0 | BF34: =+$BF$27*BE34 -> 0 | BG34: =+BE34*HR_POSTAVKA -> #VALUE! | DZ34: =+E36 -> 0 | EA34: {=IFERROR(IF(ROWS(EA$28:EA34)>COUNTA($DZ$28:$DZ$45),"",INDEX($DZ$28:$DZ$45,SMALL(IF($DZ$28:$DZ$73<>"",ROW(DZ$28:DZ$45)-ROW($DZ$28)+1),ROWS(EA$28:EA34)))),"")} -> 0 | HK34: =IF(I34>0,E34,"") | HL34: {=IFERROR(IF(ROWS(HL$28:HL34)>COUNTA($HK$28:$HK$54),"",INDEX($HK$28:$HK$54,SMALL(IF($HK$28:$HK$73<>"",ROW(HK$28:HK$54)-ROW($HK$28)+1),ROWS(HL$28:HL34)))),"")}
D35: =IF(E35>0,D34+1,"") | AG35: =IF(I35="Delno zaposlen z variabilnim %",$AI$20,IF(I35="Delno zaposlen s fiksnim %","Delež na projektu","")) | AH35: =IF(I35="Delno zaposlen z variabilnim %",$AI$21,"") | AK35: =IF(I35=$AG$22,E35,"") | AL35: {=IFERROR(IF(ROWS(AL$28:AL35)>COUNTA($AK$28:$AK$54),"",INDEX($AK$28:$AK$54,SMALL(IF($AK$28:$AK$73<>"",ROW(AK$28:AK$54)-ROW($AK$28)+1),ROWS(AL$28:AL35)))),"")} | BD35: =SUMIFS($I$54:$I$133,$H$54:$H$133,E35,$BE$54:$BE$133,0) -> 0 | BE35: =SUMIFS($I$54:$I$133,$H$54:$H$133,E35,$AC$54:$AC$133,$BE$27) -> 0 | BF35: =+$BF$27*BE35 -> 0 | BG35: =+BE35*HR_POSTAVKA -> #VALUE! | DZ35: =+E37 -> 0 | EA35: {=IFERROR(IF(ROWS(EA$28:EA35)>COUNTA($DZ$28:$DZ$45),"",INDEX($DZ$28:$DZ$45,SMALL(IF($DZ$28:$DZ$73<>"",ROW(DZ$28:DZ$45)-ROW($DZ$28)+1),ROWS(EA$28:EA35)))),"")} -> 0 | HK35: =IF(I35>0,E35,"") | HL35: {=IFERROR(IF(ROWS(HL$28:HL35)>COUNTA($HK$28:$HK$54),"",INDEX($HK$28:$HK$54,SMALL(IF($HK$28:$HK$73<>"",ROW(HK$28:HK$54)-ROW($HK$28)+1),ROWS(HL$28:HL35)))),"")}
D36: =IF(E36>0,D35+1,"") | AG36: =IF(I36="Delno zaposlen z variabilnim %",$AI$20,IF(I36="Delno zaposlen s fiksnim %","Delež na projektu","")) | AH36: =IF(I36="Delno zaposlen z variabilnim %",$AI$21,"") | AK36: =IF(I36=$AG$22,E36,"") | AL36: {=IFERROR(IF(ROWS(AL$28:AL36)>COUNTA($AK$28:$AK$54),"",INDEX($AK$28:$AK$54,SMALL(IF($AK$28:$AK$73<>"",ROW(AK$28:AK$54)-ROW($AK$28)+1),ROWS(AL$28:AL36)))),"")} | BD36: =SUMIFS($I$54:$I$133,$H$54:$H$133,E36,$BE$54:$BE$133,0) -> 0 | BE36: =SUMIFS($I$54:$I$133,$H$54:$H$133,E36,$AC$54:$AC$133,$BE$27) -> 0 | BF36: =+$BF$27*BE36 -> 0 | BG36: =+BE36*HR_POSTAVKA -> #VALUE! | DZ36: =+E38 -> 0 | EA36: {=IFERROR(IF(ROWS(EA$28:EA36)>COUNTA($DZ$28:$DZ$45),"",INDEX($DZ$28:$DZ$45,SMALL(IF($DZ$28:$DZ$73<>"",ROW(DZ$28:DZ$45)-ROW($DZ$28)+1),ROWS(EA$28:EA36)))),"")} -> 0 | HK36: =IF(I36>0,E36,"") | HL36: {=IFERROR(IF(ROWS(HL$28:HL36)>COUNTA($HK$28:$HK$54),"",INDEX($HK$28:$HK$54,SMALL(IF($HK$28:$HK$73<>"",ROW(HK$28:HK$54)-ROW($HK$28)+1),ROWS(HL$28:HL36)))),"")}
D37: =IF(E37>0,D36+1,"") | AG37: =IF(I37="Delno zaposlen z variabilnim %",$AI$20,IF(I37="Delno zaposlen s fiksnim %","Delež na projektu","")) | AH37: =IF(I37="Delno zaposlen z variabilnim %",$AI$21,"") | AK37: =IF(I37=$AG$22,E37,"") | AL37: {=IFERROR(IF(ROWS(AL$28:AL37)>COUNTA($AK$28:$AK$54),"",INDEX($AK$28:$AK$54,SMALL(IF($AK$28:$AK$73<>"",ROW(AK$28:AK$54)-ROW($AK$28)+1),ROWS(AL$28:AL37)))),"")} | BD37: =SUMIFS($I$54:$I$133,$H$54:$H$133,E37,$BE$54:$BE$133,0) -> 0 | BE37: =SUMIFS($I$54:$I$133,$H$54:$H$133,E37,$AC$54:$AC$133,$BE$27) -> 0 | BF37: =+$BF$27*BE37 -> 0 | BG37: =+BE37*HR_POSTAVKA -> #VALUE! | DZ37: =+E39 -> 0 | EA37: {=IFERROR(IF(ROWS(EA$28:EA37)>COUNTA($DZ$28:$DZ$45),"",INDEX($DZ$28:$DZ$45,SMALL(IF($DZ$28:$DZ$73<>"",ROW(DZ$28:DZ$45)-ROW($DZ$28)+1),ROWS(EA$28:EA37)))),"")} -> 0 | HK37: =IF(I37>0,E37,"") | HL37: {=IFERROR(IF(ROWS(HL$28:HL37)>COUNTA($HK$28:$HK$54),"",INDEX($HK$28:$HK$54,SMALL(IF($HK$28:$HK$73<>"",ROW(HK$28:HK$54)-ROW($HK$28)+1),ROWS(HL$28:HL37)))),"")}
D38: =IF(E38>0,D37+1,"") | AG38: =IF(I38="Delno zaposlen z variabilnim %",$AI$20,IF(I38="Delno zaposlen s fiksnim %","Delež na projektu","")) | AH38: =IF(I38="Delno zaposlen z variabilnim %",$AI$21,"") | AK38: =IF(I38=$AG$22,E38,"") | AL38: {=IFERROR(IF(ROWS(AL$28:AL38)>COUNTA($AK$28:$AK$54),"",INDEX($AK$28:$AK$54,SMALL(IF($AK$28:$AK$73<>"",ROW(AK$28:AK$54)-ROW($AK$28)+1),ROWS(AL$28:AL38)))),"")} | BD38: =SUMIFS($I$54:$I$133,$H$54:$H$133,E38,$BE$54:$BE$133,0) -> 0 | BE38: =SUMIFS($I$54:$I$133,$H$54:$H$133,E38,$AC$54:$AC$133,$BE$27) -> 0 | BF38: =+$BF$27*BE38 -> 0 | BG38: =+BE38*HR_POSTAVKA -> #VALUE! | DZ38: =+E40 -> 0 | EA38: {=IFERROR(IF(ROWS(EA$28:EA38)>COUNTA($DZ$28:$DZ$45),"",INDEX($DZ$28:$DZ$45,SMALL(IF($DZ$28:$DZ$73<>"",ROW(DZ$28:DZ$45)-ROW($DZ$28)+1),ROWS(EA$28:EA38)))),"")} -> 0 | HK38: =IF(I38>0,E38,"") | HL38: {=IFERROR(IF(ROWS(HL$28:HL38)>COUNTA($HK$28:$HK$54),"",INDEX($HK$28:$HK$54,SMALL(IF($HK$28:$HK$73<>"",ROW(HK$28:HK$54)-ROW($HK$28)+1),ROWS(HL$28:HL38)))),"")}
D39: =IF(E39>0,D38+1,"") | AG39: =IF(I39="Delno zaposlen z variabilnim %",$AI$20,IF(I39="Delno zaposlen s fiksnim %","Delež na projektu","")) | AH39: =IF(I39="Delno zaposlen z variabilnim %",$AI$21,"") | AK39: =IF(I39=$AG$22,E39,"") | AL39: {=IFERROR(IF(ROWS(AL$28:AL39)>COUNTA($AK$28:$AK$54),"",INDEX($AK$28:$AK$54,SMALL(IF($AK$28:$AK$73<>"",ROW(AK$28:AK$54)-ROW($AK$28)+1),ROWS(AL$28:AL39)))),"")} | BD39: =SUMIFS($I$54:$I$133,$H$54:$H$133,E39,$BE$54:$BE$133,0) -> 0 | BE39: =SUMIFS($I$54:$I$133,$H$54:$H$133,E39,$AC$54:$AC$133,$BE$27) -> 0 | BF39: =+$BF$27*BE39 -> 0 | BG39: =+BE39*HR_POSTAVKA -> #VALUE! | DZ39: =+E41 -> 0 | EA39: {=IFERROR(IF(ROWS(EA$28:EA39)>COUNTA($DZ$28:$DZ$45),"",INDEX($DZ$28:$DZ$45,SMALL(IF($DZ$28:$DZ$73<>"",ROW(DZ$28:DZ$45)-ROW($DZ$28)+1),ROWS(EA$28:EA39)))),"")} -> 0 | HK39: =IF(I39>0,E39,"") | HL39: {=IFERROR(IF(ROWS(HL$28:HL39)>COUNTA($HK$28:$HK$54),"",INDEX($HK$28:$HK$54,SMALL(IF($HK$28:$HK$73<>"",ROW(HK$28:HK$54)-ROW($HK$28)+1),ROWS(HL$28:HL39)))),"")}
D40: =IF(E40>0,D39+1,"") | AG40: =IF(I40="Delno zaposlen z variabilnim %",$AI$20,IF(I40="Delno zaposlen s fiksnim %","Delež na projektu","")) | AH40: =IF(I40="Delno zaposlen z variabilnim %",$AI$21,"") | AK40: =IF(I40=$AG$22,E40,"") | AL40: {=IFERROR(IF(ROWS(AL$28:AL40)>COUNTA($AK$28:$AK$54),"",INDEX($AK$28:$AK$54,SMALL(IF($AK$28:$AK$73<>"",ROW(AK$28:AK$54)-ROW($AK$28)+1),ROWS(AL$28:AL40)))),"")} | BD40: =SUMIFS($I$54:$I$133,$H$54:$H$133,E40,$BE$54:$BE$133,0) -> 0 | BE40: =SUMIFS($I$54:$I$133,$H$54:$H$133,E40,$AC$54:$AC$133,$BE$27) -> 0 | BF40: =+$BF$27*BE40 -> 0 | BG40: =+BE40*HR_POSTAVKA -> #VALUE! | DZ40: =+E42 -> 0 | EA40: {=IFERROR(IF(ROWS(EA$28:EA40)>COUNTA($DZ$28:$DZ$45),"",INDEX($DZ$28:$DZ$45,SMALL(IF($DZ$28:$DZ$73<>"",ROW(DZ$28:DZ$45)-ROW($DZ$28)+1),ROWS(EA$28:EA40)))),"")} -> 0 | HK40: =IF(I40>0,E40,"") | HL40: {=IFERROR(IF(ROWS(HL$28:HL40)>COUNTA($HK$28:$HK$54),"",INDEX($HK$28:$HK$54,SMALL(IF($HK$28:$HK$73<>"",ROW(HK$28:HK$54)-ROW($HK$28)+1),ROWS(HL$28:HL40)))),"")}
D41: =IF(E41>0,D40+1,"") | AG41: =IF(I41="Delno zaposlen z variabilnim %",$AI$20,IF(I41="Delno zaposlen s fiksnim %","Delež na projektu","")) | AH41: =IF(I41="Delno zaposlen z variabilnim %",$AI$21,"") | AK41: =IF(I41=$AG$22,E41,"") | AL41: {=IFERROR(IF(ROWS(AL$28:AL41)>COUNTA($AK$28:$AK$54),"",INDEX($AK$28:$AK$54,SMALL(IF($AK$28:$AK$73<>"",ROW(AK$28:AK$54)-ROW($AK$28)+1),ROWS(AL$28:AL41)))),"")} | BD41: =SUMIFS($I$54:$I$133,$H$54:$H$133,E41,$BE$54:$BE$133,0) -> 0 | BE41: =SUMIFS($I$54:$I$133,$H$54:$H$133,E41,$AC$54:$AC$133,$BE$27) -> 0 | BF41: =+$BF$27*BE41 -> 0 | BG41: =+BE41*HR_POSTAVKA -> #VALUE! | DZ41: =+E43 -> 0 | EA41: {=IFERROR(IF(ROWS(EA$28:EA41)>COUNTA($DZ$28:$DZ$45),"",INDEX($DZ$28:$DZ$45,SMALL(IF($DZ$28:$DZ$73<>"",ROW(DZ$28:DZ$45)-ROW($DZ$28)+1),ROWS(EA$28:EA41)))),"")} -> 0 | HK41: =IF(I41>0,E41,"") | HL41: {=IFERROR(IF(ROWS(HL$28:HL41)>COUNTA($HK$28:$HK$54),"",INDEX($HK$28:$HK$54,SMALL(IF($HK$28:$HK$73<>"",ROW(HK$28:HK$54)-ROW($HK$28)+1),ROWS(HL$28:HL41)))),"")}
D42: =IF(E42>0,D41+1,"") | AG42: =IF(I42="Delno zaposlen z variabilnim %",$AI$20,IF(I42="Delno zaposlen s fiksnim %","Delež na projektu","")) | AH42: =IF(I42="Delno zaposlen z variabilnim %",$AI$21,"") | AK42: =IF(I42=$AG$22,E42,"") | AL42: {=IFERROR(IF(ROWS(AL$28:AL42)>COUNTA($AK$28:$AK$54),"",INDEX($AK$28:$AK$54,SMALL(IF($AK$28:$AK$73<>"",ROW(AK$28:AK$54)-ROW($AK$28)+1),ROWS(AL$28:AL42)))),"")} | BD42: =SUMIFS($I$54:$I$133,$H$54:$H$133,E42,$BE$54:$BE$133,0) -> 0 | BE42: =SUMIFS($I$54:$I$133,$H$54:$H$133,E42,$AC$54:$AC$133,$BE$27) -> 0 | BF42: =+$BF$27*BE42 -> 0 | BG42: =+BE42*HR_POSTAVKA -> #VALUE! | DZ42: =+E44 -> 0 | EA42: {=IFERROR(IF(ROWS(EA$28:EA42)>COUNTA($DZ$28:$DZ$45),"",INDEX($DZ$28:$DZ$45,SMALL(IF($DZ$28:$DZ$73<>"",ROW(DZ$28:DZ$45)-ROW($DZ$28)+1),ROWS(EA$28:EA42)))),"")} -> 0 | HK42: =IF(I42>0,E42,"") | HL42: {=IFERROR(IF(ROWS(HL$28:HL42)>COUNTA($HK$28:$HK$54),"",INDEX($HK$28:$HK$54,SMALL(IF($HK$28:$HK$73<>"",ROW(HK$28:HK$54)-ROW($HK$28)+1),ROWS(HL$28:HL42)))),"")}
D43: =IF(E43>0,D42+1,"") | AG43: =IF(I43="Delno zaposlen z variabilnim %",$AI$20,IF(I43="Delno zaposlen s fiksnim %","Delež na projektu","")) | AH43: =IF(I43="Delno zaposlen z variabilnim %",$AI$21,"") | AK43: =IF(I43=$AG$22,E43,"") | AL43: {=IFERROR(IF(ROWS(AL$28:AL43)>COUNTA($AK$28:$AK$54),"",INDEX($AK$28:$AK$54,SMALL(IF($AK$28:$AK$73<>"",ROW(AK$28:AK$54)-ROW($AK$28)+1),ROWS(AL$28:AL43)))),"")} | BD43: =SUMIFS($I$54:$I$133,$H$54:$H$133,E43,$BE$54:$BE$133,0) -> 0 | BE43: =SUMIFS($I$54:$I$133,$H$54:$H$133,E43,$AC$54:$AC$133,$BE$27) -> 0 | BF43: =+$BF$27*BE43 -> 0 | BG43: =+BE43*HR_POSTAVKA -> #VALUE! | DZ43: =+E45 -> 0 | EA43: {=IFERROR(IF(ROWS(EA$28:EA43)>COUNTA($DZ$28:$DZ$45),"",INDEX($DZ$28:$DZ$45,SMALL(IF($DZ$28:$DZ$73<>"",ROW(DZ$28:DZ$45)-ROW($DZ$28)+1),ROWS(EA$28:EA43)))),"")} -> 0 | HK43: =IF(I43>0,E43,"") | HL43: {=IFERROR(IF(ROWS(HL$28:HL43)>COUNTA($HK$28:$HK$54),"",INDEX($HK$28:$HK$54,SMALL(IF($HK$28:$HK$73<>"",ROW(HK$28:HK$54)-ROW($HK$28)+1),ROWS(HL$28:HL43)))),"")}
D44: =IF(E44>0,D43+1,"") | AG44: =IF(I44="Delno zaposlen z variabilnim %",$AI$20,IF(I44="Delno zaposlen s fiksnim %","Delež na projektu","")) | AH44: =IF(I44="Delno zaposlen z variabilnim %",$AI$21,"") | AK44: =IF(I44=$AG$22,E44,"") | AL44: {=IFERROR(IF(ROWS(AL$28:AL44)>COUNTA($AK$28:$AK$54),"",INDEX($AK$28:$AK$54,SMALL(IF($AK$28:$AK$73<>"",ROW(AK$28:AK$54)-ROW($AK$28)+1),ROWS(AL$28:AL44)))),"")} | BD44: =SUMIFS($I$54:$I$133,$H$54:$H$133,E44,$BE$54:$BE$133,0) -> 0 | BE44: =SUMIFS($I$54:$I$133,$H$54:$H$133,E44,$AC$54:$AC$133,$BE$27) -> 0 | BF44: =+$BF$27*BE44 -> 0 | BG44: =+BE44*HR_POSTAVKA -> #VALUE! | DZ44: =+E46 -> 0 | EA44: {=IFERROR(IF(ROWS(EA$28:EA44)>COUNTA($DZ$28:$DZ$45),"",INDEX($DZ$28:$DZ$45,SMALL(IF($DZ$28:$DZ$73<>"",ROW(DZ$28:DZ$45)-ROW($DZ$28)+1),ROWS(EA$28:EA44)))),"")} -> 0 | HK44: =IF(I44>0,E44,"") | HL44: {=IFERROR(IF(ROWS(HL$28:HL44)>COUNTA($HK$28:$HK$54),"",INDEX($HK$28:$HK$54,SMALL(IF($HK$28:$HK$73<>"",ROW(HK$28:HK$54)-ROW($HK$28)+1),ROWS(HL$28:HL44)))),"")}
D45: =IF(E45>0,D44+1,"") | AG45: =IF(I45="Delno zaposlen z variabilnim %",$AI$20,IF(I45="Delno zaposlen s fiksnim %","Delež na projektu","")) | AH45: =IF(I45="Delno zaposlen z variabilnim %",$AI$21,"") | AK45: =IF(I45=$AG$22,E45,"") | AL45: {=IFERROR(IF(ROWS(AL$28:AL45)>COUNTA($AK$28:$AK$54),"",INDEX($AK$28:$AK$54,SMALL(IF($AK$28:$AK$73<>"",ROW(AK$28:AK$54)-ROW($AK$28)+1),ROWS(AL$28:AL45)))),"")} | BD45: =SUMIFS($I$54:$I$133,$H$54:$H$133,E45,$BE$54:$BE$133,0) -> 0 | BE45: =SUMIFS($I$54:$I$133,$H$54:$H$133,E45,$AC$54:$AC$133,$BE$27) -> 0 | BF45: =+$BF$27*BE45 -> 0 | BG45: =+BE45*HR_POSTAVKA -> #VALUE! | DZ45: =+E47 -> 0 | EA45: {=IFERROR(IF(ROWS(EA$28:EA45)>COUNTA($DZ$28:$DZ$45),"",INDEX($DZ$28:$DZ$45,SMALL(IF($DZ$28:$DZ$73<>"",ROW(DZ$28:DZ$45)-ROW($DZ$28)+1),ROWS(EA$28:EA45)))),"")} -> 0 | HK45: =IF(I45>0,E45,"") | HL45: {=IFERROR(IF(ROWS(HL$28:HL45)>COUNTA($HK$28:$HK$54),"",INDEX($HK$28:$HK$54,SMALL(IF($HK$28:$HK$73<>"",ROW(HK$28:HK$54)-ROW($HK$28)+1),ROWS(HL$28:HL45)))),"")}
D46: =IF(E46>0,D45+1,"") | AG46: =IF(I46="Delno zaposlen z variabilnim %",$AI$20,IF(I46="Delno zaposlen s fiksnim %","Delež na projektu","")) | AH46: =IF(I46="Delno zaposlen z variabilnim %",$AI$21,"") | AK46: =IF(I46=$AG$22,E46,"") | AL46: {=IFERROR(IF(ROWS(AL$28:AL46)>COUNTA($AK$28:$AK$54),"",INDEX($AK$28:$AK$54,SMALL(IF($AK$28:$AK$73<>"",ROW(AK$28:AK$54)-ROW($AK$28)+1),ROWS(AL$28:AL46)))),"")} | BD46: =SUMIFS($I$54:$I$133,$H$54:$H$133,E46,$BE$54:$BE$133,0) -> 0 | BE46: =SUMIFS($I$54:$I$133,$H$54:$H$133,E46,$AC$54:$AC$133,$BE$27) -> 0 | BF46: =+$BF$27*BE46 -> 0 | BG46: =+BE46*HR_POSTAVKA -> #VALUE! | HK46: =IF(I46>0,E46,"") | HL46: {=IFERROR(IF(ROWS(HL$28:HL46)>COUNTA($HK$28:$HK$54),"",INDEX($HK$28:$HK$54,SMALL(IF($HK$28:$HK$73<>"",ROW(HK$28:HK$54)-ROW($HK$28)+1),ROWS(HL$28:HL46)))),"")}
D47: =IF(E47>0,D46+1,"") | AG47: =IF(I47="Delno zaposlen z variabilnim %",$AI$20,IF(I47="Delno zaposlen s fiksnim %","Delež na projektu","")) | AH47: =IF(I47="Delno zaposlen z variabilnim %",$AI$21,"") | AK47: =IF(I47=$AG$22,E47,"") | AL47: {=IFERROR(IF(ROWS(AL$28:AL47)>COUNTA($AK$28:$AK$54),"",INDEX($AK$28:$AK$54,SMALL(IF($AK$28:$AK$73<>"",ROW(AK$28:AK$54)-ROW($AK$28)+1),ROWS(AL$28:AL47)))),"")} | BD47: =SUMIFS($I$54:$I$133,$H$54:$H$133,E47,$BE$54:$BE$133,0) -> 0 | BE47: =SUMIFS($I$54:$I$133,$H$54:$H$133,E47,$AC$54:$AC$133,$BE$27) -> 0 | BF47: =+$BF$27*BE47 -> 0 | BG47: =+BE47*HR_POSTAVKA -> #VALUE! | DR47: DRUGA REFUNDIRANA NADOMESTILA | HK47: =IF(I47>0,E47,"") | HL47: {=IFERROR(IF(ROWS(HL$28:HL47)>COUNTA($HK$28:$HK$54),"",INDEX($HK$28:$HK$54,SMALL(IF($HK$28:$HK$73<>"",ROW(HK$28:HK$54)-ROW($HK$28)+1),ROWS(HL$28:HL47)))),"")}
BC48: REDNE AKTIVNOSTI | BD48: =RU -> 0 | BE48: =SUMIFS($I$54:$I$133,$H$54:$H$133,BC49,$AC$54:$AC$133,$BE$27) -> 0 | BF48: =+$BF$27*BE48 -> 0 | HK48: Nadure rednega dela | HL48: {=IFERROR(IF(ROWS(HL$28:HL48)>COUNTA($HK$28:$HK$54),"",INDEX($HK$28:$HK$54,SMALL(IF($HK$28:$HK$73<>"",ROW(HK$28:HK$54)-ROW($HK$28)+1),ROWS(HL$28:HL48)))),"")}
BC49: Nadure rednega dela | HL49: {=IFERROR(IF(ROWS(HL$28:HL49)>COUNTA($HK$28:$HK$54),"",INDEX($HK$28:$HK$54,SMALL(IF($HK$28:$HK$73<>"",ROW(HK$28:HK$54)-ROW($HK$28)+1),ROWS(HL$28:HL49)))),"")}
Q50: =IF(SUMIF(I28:I47,"Delno zaposlen s fiksnim %",V28:V47)>1,"PREVERITE % FIKSNE RAZPOREDITVE","") | AJ50: =SUMIF($H$54:$H$133,$AK50,$I$54:$I$137) -> 0 | AK50: DOPUST | AL50: {=IFERROR(IF(ROWS(AL$28:AL50)>COUNTA($AK$28:$AK$54),"",INDEX($AK$28:$AK$54,SMALL(IF($AK$28:$AK$73<>"",ROW(AK$28:AK$54)-ROW($AK$28)+1),ROWS(AL$28:AL50)))),"")} | DR50: DOPUST | HL50: {=IFERROR(IF(ROWS(HL$28:HL50)>COUNTA($HK$28:$HK$54),"",INDEX($HK$28:$HK$54,SMALL(IF($HK$28:$HK$73<>"",ROW(HK$28:HK$54)-ROW($HK$28)+1),ROWS(HL$28:HL50)))),"")}
D51: II. OPIS AKTIVNOSTI | AJ51: =SUMIF($H$54:$H$133,$AK51,$I$54:$I$137) -> 0 | AK51: BOLNIŠKA | AL51: {=IFERROR(IF(ROWS(AL$28:AL51)>COUNTA($AK$28:$AK$54),"",INDEX($AK$28:$AK$54,SMALL(IF($AK$28:$AK$73<>"",ROW(AK$28:AK$54)-ROW($AK$28)+1),ROWS(AL$28:AL51)))),"")} | AQ51: =AT54&TEXT(AU54,"D")&" "&TEXT(AU55,"D")&" "&TEXT(AU56,"D")&" "&TEXT(AU57,"D")&" "&TEXT(AU58,"D")&TEXT(AU59,"D") | AV51: =AT54&TEXT(AU54,"D")&" "&TEXT(AU55,"D")&" "&TEXT(AU56,"D")&" "&TEXT(AU57,"D")&" "&TEXT(AU58,"D")&TEXT(AU59,"D") | BD51: =SUM(BD28:BD48) -> 0 | BE51: =SUM(BE28:BE48) -> 0 | DR51: BOLNIŠKA | HL51: {=IFERROR(IF(ROWS(HL$28:HL51)>COUNTA($HK$28:$HK$54),"",INDEX($HK$28:$HK$54,SMALL(IF($HK$28:$HK$73<>"",ROW(HK$28:HK$54)-ROW($HK$28)+1),ROWS(HL$28:HL51)))),"")}
AJ52: =SUMIF($H$54:$H$133,$AK52,$I$54:$I$137) -> 0 | AK52: PRAZNIK | AR52: =SUM(AR54:AR84) -> 0 | DR52: PRAZNIK | HL52: {=IFERROR(IF(ROWS(HL$28:HL52)>COUNTA($HK$28:$HK$54),"",INDEX($HK$28:$HK$54,SMALL(IF($HK$28:$HK$73<>"",ROW(HK$28:HK$54)-ROW($HK$28)+1),ROWS(HL$28:HL52)))),"")}
D53: Datum | F53: Dan | H53: Projekti | I53: Št. ur | J53: Opis aktivnosti | AC53: Nadure | AG53: Nadurno delo | AJ53: =SUMIF($H$54:$H$133,$AK53,$I$54:$I$137) -> 0 | AK53: DRUGA REFUNDIRANA NADOMESTILA | AS53: Vsi datumi na katere je prekoračitev | AU53: Sortirani | BA53: Če je med 8 in 10 | DR53: NEGA | HL53: {=IFERROR(IF(ROWS(HL$28:HL53)>COUNTA($HK$28:$HK$54),"",INDEX($HK$28:$HK$54,SMALL(IF($HK$28:$HK$73<>"",ROW(HK$28:HK$54)-ROW($HK$28)+1),ROWS(HL$28:HL53)))),"")}
F54: =D54 -> 0 | AF54: =IFERROR(LOOKUP(D54,$AP$54:$AP$133,$BA$54:$BA$133),"") | AH54: =IF(D54>0,WEEKDAY(D54,1),0) -> 0 | AI54: =IF(D54>0,WEEKDAY(D54,1),0) -> 0 | AJ54: =SUMIF($H$54:$H$133,$AK54,$I$54:$I$137) -> 0 | AP54: =+D54 -> 0 | AQ54: =SUMIF($D$54:$D$133,AP54,$I$54:$I$133) -> 0 | AR54: =IF(AQ54>10,1,0) -> 0 | AS54: =IF(AQ54>10,AP54,"") | AT54: =IF(AR52>=1,"PREKORAČITVE NA DAN: ","") | AU54: {=IFERROR(IF(ROWS(AU$54:AU54)>COUNTA($AS$54:$AS$84),"",INDEX($AS$54:$AS$84,SMALL(IF($AS$54:$AS$84<>"",ROW(AS$54:AS$84)-ROW($AS$54)+1),ROWS(AU$54:AU54)))),"")} | BA54: =IF(AND(AQ54<=10,AQ54>8),"Več kot 8 ur",IF(AQ54>10,"Prekoračitev delovnih ur","")) | BD54: =IF(AC54="Nadurno delo",I54,0) -> 0 | BE54: =+AC54 -> 0 | BF54: =IF(AND(BE54="Nadurno delo",I54>2),1,0) -> 0 | DR54: =IF(AND(OR(H54=$DR$47,H54=$DR$50,H54=$DR$51,H54=$DR$52,H54=$DR$53),I54>8),1,0) -> 0
C55: =IF(D55>0,IF(AND(YEAR($D$54)=YEAR(D55),MONTH($D$54)=MONTH(D55)),"","!!!"),"") | F55: =D55 -> 0 | AF55: =IFERROR(LOOKUP(D55,$AP$54:$AP$133,$BA$54:$BA$133),"") | AH55: =IF(D55>0,WEEKDAY(D55,1),0) -> 0 | AI55: =IF(D55>0,WEEKDAY(D55,1),0) -> 0 | AP55: =+AP54+1 -> 1 | AQ55: =SUMIF($D$54:$D$133,AP55,$I$54:$I$133) -> 0 | AR55: =IF(AQ55>10,1,0) -> 0 | AS55: =IF(AQ55>10,AP55,"") | AT55: =IF(AR52>=1,"PREKORAČITVE NA DAN: ","") | AU55: {=IFERROR(IF(ROWS(AU$54:AU55)>COUNTA($AS$54:$AS$84),"",INDEX($AS$54:$AS$84,SMALL(IF($AS$54:$AS$84<>"",ROW(AS$54:AS$84)-ROW($AS$54)+1),ROWS(AU$54:AU55)))),"")} | BA55: =IF(AND(AQ55<=10,AQ55>8),"Več kot 8 ur",IF(AQ55>10,"Prekoračitev delovnih ur","")) | BD55: =IF(AC55="Nadurno delo",I55,0) -> 0 | BE55: =+AC55 -> 0 | BF55: =IF(AND(BE55="Nadurno delo",I55>2),1,0) -> 0 | DR55: =IF(AND(OR(H55=$DR$47,H55=$DR$50,H55=$DR$51,H55=$DR$52,H55=$DR$53),I55>8),1,0) -> 0
C56: =IF(D56>0,IF(AND(YEAR($D$54)=YEAR(D56),MONTH($D$54)=MONTH(D56)),"","!!!"),"") | F56: =D56 -> 0 | AF56: =IFERROR(LOOKUP(D56,$AP$54:$AP$133,$BA$54:$BA$133),"") | AH56: =IF(D56>0,WEEKDAY(D56,1),0) -> 0 | AI56: =IF(D56>0,WEEKDAY(D56,1),0) -> 0 | AP56: =+AP55+1 -> 2 | AQ56: =SUMIF($D$54:$D$133,AP56,$I$54:$I$133) -> 0 | AR56: =IF(AQ56>10,1,0) -> 0 | AS56: =IF(AQ56>10,AP56,"") | AU56: {=IFERROR(IF(ROWS(AU$54:AU56)>COUNTA($AS$54:$AS$84),"",INDEX($AS$54:$AS$84,SMALL(IF($AS$54:$AS$84<>"",ROW(AS$54:AS$84)-ROW($AS$54)+1),ROWS(AU$54:AU56)))),"")} | BA56: =IF(AND(AQ56<=10,AQ56>8),"Več kot 8 ur",IF(AQ56>10,"Prekoračitev delovnih ur","")) | BD56: =IF(AC56="Nadurno delo",I56,0) -> 0 | BE56: =+AC56 -> 0 | BF56: =IF(AND(BE56="Nadurno delo",I56>2),1,0) -> 0 | DR56: =IF(AND(OR(H56=$DR$47,H56=$DR$50,H56=$DR$51,H56=$DR$52,H56=$DR$53),I56>8),1,0) -> 0
C57: =IF(D57>0,IF(AND(YEAR($D$54)=YEAR(D57),MONTH($D$54)=MONTH(D57)),"","!!!"),"") | F57: =D57 -> 0 | AF57: =IFERROR(LOOKUP(D57,$AP$54:$AP$133,$BA$54:$BA$133),"") | AH57: =IF(D57>0,WEEKDAY(D57,1),0) -> 0 | AI57: =IF(D57>0,WEEKDAY(D57,1),0) -> 0 | AP57: =+AP56+1 -> 3 | AQ57: =SUMIF($D$54:$D$133,AP57,$I$54:$I$133) -> 0 | AR57: =IF(AQ57>10,1,0) -> 0 | AS57: =IF(AQ57>10,AP57,"") | AU57: {=IFERROR(IF(ROWS(AU$54:AU57)>COUNTA($AS$54:$AS$84),"",INDEX($AS$54:$AS$84,SMALL(IF($AS$54:$AS$84<>"",ROW(AS$54:AS$84)-ROW($AS$54)+1),ROWS(AU$54:AU57)))),"")} | BA57: =IF(AND(AQ57<=10,AQ57>8),"Več kot 8 ur",IF(AQ57>10,"Prekoračitev delovnih ur","")) | BD57: =IF(AC57="Nadurno delo",I57,0) -> 0 | BE57: =+AC57 -> 0 | BF57: =IF(AND(BE57="Nadurno delo",I57>2),1,0) -> 0 | DR57: =IF(AND(OR(H57=$DR$47,H57=$DR$50,H57=$DR$51,H57=$DR$52,H57=$DR$53),I57>8),1,0) -> 0
C58: =IF(D58>0,IF(AND(YEAR($D$54)=YEAR(D58),MONTH($D$54)=MONTH(D58)),"","!!!"),"") | F58: =D58 -> 0 | AF58: =IFERROR(LOOKUP(D58,$AP$54:$AP$133,$BA$54:$BA$133),"") | AH58: =IF(D58>0,WEEKDAY(D58,1),0) -> 0 | AI58: =IF(D58>0,WEEKDAY(D58,1),0) -> 0 | AP58: =+AP57+1 -> 4 | AQ58: =SUMIF($D$54:$D$133,AP58,$I$54:$I$133) -> 0 | AR58: =IF(AQ58>10,1,0) -> 0 | AS58: =IF(AQ58>10,AP58,"") | AU58: {=IFERROR(IF(ROWS(AU$54:AU58)>COUNTA($AS$54:$AS$84),"",INDEX($AS$54:$AS$84,SMALL(IF($AS$54:$AS$84<>"",ROW(AS$54:AS$84)-ROW($AS$54)+1),ROWS(AU$54:AU58)))),"")} | BA58: =IF(AND(AQ58<=10,AQ58>8),"Več kot 8 ur",IF(AQ58>10,"Prekoračitev delovnih ur","")) | BD58: =IF(AC58="Nadurno delo",I58,0) -> 0 | BE58: =+AC58 -> 0 | BF58: =IF(AND(BE58="Nadurno delo",I58>2),1,0) -> 0 | DR58: =IF(AND(OR(H58=$DR$47,H58=$DR$50,H58=$DR$51,H58=$DR$52,H58=$DR$53),I58>8),1,0) -> 0
C59: =IF(D59>0,IF(AND(YEAR($D$54)=YEAR(D59),MONTH($D$54)=MONTH(D59)),"","!!!"),"") | F59: =D59 -> 0 | AF59: =IFERROR(LOOKUP(D59,$AP$54:$AP$133,$BA$54:$BA$133),"") | AH59: =IF(D59>0,WEEKDAY(D59,1),0) -> 0 | AI59: =IF(D59>0,WEEKDAY(D59,1),0) -> 0 | AP59: =+AP58+1 -> 5 | AQ59: =SUMIF($D$54:$D$133,AP59,$I$54:$I$133) -> 0 | AR59: =IF(AQ59>10,1,0) -> 0 | AS59: =IF(AQ59>10,AP59,"") | AU59: {=IFERROR(IF(ROWS(AU$54:AU59)>COUNTA($AS$54:$AS$84),"",INDEX($AS$54:$AS$84,SMALL(IF($AS$54:$AS$84<>"",ROW(AS$54:AS$84)-ROW($AS$54)+1),ROWS(AU$54:AU59)))),"")} | BA59: =IF(AND(AQ59<=10,AQ59>8),"Več kot 8 ur",IF(AQ59>10,"Prekoračitev delovnih ur","")) | BD59: =IF(AC59="Nadurno delo",I59,0) -> 0 | BE59: =+AC59 -> 0 | BF59: =IF(AND(BE59="Nadurno delo",I59>2),1,0) -> 0 | DR59: =IF(AND(OR(H59=$DR$47,H59=$DR$50,H59=$DR$51,H59=$DR$52,H59=$DR$53),I59>8),1,0) -> 0
C60: =IF(D60>0,IF(AND(YEAR($D$54)=YEAR(D60),MONTH($D$54)=MONTH(D60)),"","!!!"),"") | F60: =D60 -> 0 | AF60: =IFERROR(LOOKUP(D60,$AP$54:$AP$133,$BA$54:$BA$133),"") | AH60: =IF(D60>0,WEEKDAY(D60,1),0) -> 0 | AI60: =IF(D60>0,WEEKDAY(D60,1),0) -> 0 | AP60: =+AP59+1 -> 6 | AQ60: =SUMIF($D$54:$D$133,AP60,$I$54:$I$133) -> 0 | AR60: =IF(AQ60>10,1,0) -> 0 | AS60: =IF(AQ60>10,AP60,"") | AU60: {=IFERROR(IF(ROWS(AU$54:AU60)>COUNTA($AS$54:$AS$84),"",INDEX($AS$54:$AS$84,SMALL(IF($AS$54:$AS$84<>"",ROW(AS$54:AS$84)-ROW($AS$54)+1),ROWS(AU$54:AU60)))),"")} | BA60: =IF(AND(AQ60<=10,AQ60>8),"Več kot 8 ur",IF(AQ60>10,"Prekoračitev delovnih ur","")) | BD60: =IF(AC60="Nadurno delo",I60,0) -> 0 | BE60: =+AC60 -> 0 | BF60: =IF(AND(BE60="Nadurno delo",I60>2),1,0) -> 0 | DR60: =IF(AND(OR(H60=$DR$47,H60=$DR$50,H60=$DR$51,H60=$DR$52,H60=$DR$53),I60>8),1,0) -> 0
C61: =IF(D61>0,IF(AND(YEAR($D$54)=YEAR(D61),MONTH($D$54)=MONTH(D61)),"","!!!"),"") | F61: =D61 -> 0 | AF61: =IFERROR(LOOKUP(D61,$AP$54:$AP$133,$BA$54:$BA$133),"") | AH61: =IF(D61>0,WEEKDAY(D61,1),0) -> 0 | AI61: =IF(D61>0,WEEKDAY(D61,1),0) -> 0 | AP61: =+AP60+1 -> 7 | AQ61: =SUMIF($D$54:$D$133,AP61,$I$54:$I$133) -> 0 | AR61: =IF(AQ61>10,1,0) -> 0 | AS61: =IF(AQ61>10,AP61,"") | AU61: {=IFERROR(IF(ROWS(AU$54:AU61)>COUNTA($AS$54:$AS$84),"",INDEX($AS$54:$AS$84,SMALL(IF($AS$54:$AS$84<>"",ROW(AS$54:AS$84)-ROW($AS$54)+1),ROWS(AU$54:AU61)))),"")} | BA61: =IF(AND(AQ61<=10,AQ61>8),"Več kot 8 ur",IF(AQ61>10,"Prekoračitev delovnih ur","")) | BD61: =IF(AC61="Nadurno delo",I61,0) -> 0 | BE61: =+AC61 -> 0 | BF61: =IF(AND(BE61="Nadurno delo",I61>2),1,0) -> 0 | DR61: =IF(AND(OR(H61=$DR$47,H61=$DR$50,H61=$DR$51,H61=$DR$52,H61=$DR$53),I61>8),1,0) -> 0
C62: =IF(D62>0,IF(AND(YEAR($D$54)=YEAR(D62),MONTH($D$54)=MONTH(D62)),"","!!!"),"") | F62: =D62 -> 0 | AF62: =IFERROR(LOOKUP(D62,$AP$54:$AP$133,$BA$54:$BA$133),"") | AH62: =IF(D62>0,WEEKDAY(D62,1),0) -> 0 | AI62: =IF(D62>0,WEEKDAY(D62,1),0) -> 0 | AP62: =+AP61+1 -> 8 | AQ62: =SUMIF($D$54:$D$133,AP62,$I$54:$I$133) -> 0 | AR62: =IF(AQ62>10,1,0) -> 0 | AS62: =IF(AQ62>10,AP62,"") | AU62: {=IFERROR(IF(ROWS(AU$54:AU62)>COUNTA($AS$54:$AS$84),"",INDEX($AS$54:$AS$84,SMALL(IF($AS$54:$AS$84<>"",ROW(AS$54:AS$84)-ROW($AS$54)+1),ROWS(AU$54:AU62)))),"")} | BA62: =IF(AND(AQ62<=10,AQ62>8),"Več kot 8 ur",IF(AQ62>10,"Prekoračitev delovnih ur","")) | BD62: =IF(AC62="Nadurno delo",I62,0) -> 0 | BE62: =+AC62 -> 0 | BF62: =IF(AND(BE62="Nadurno delo",I62>2),1,0) -> 0 | DR62: =IF(AND(OR(H62=$DR$47,H62=$DR$50,H62=$DR$51,H62=$DR$52,H62=$DR$53),I62>8),1,0) -> 0
C63: =IF(D63>0,IF(AND(YEAR($D$54)=YEAR(D63),MONTH($D$54)=MONTH(D63)),"","!!!"),"") | F63: =D63 -> 0 | AF63: =IFERROR(LOOKUP(D63,$AP$54:$AP$133,$BA$54:$BA$133),"") | AH63: =IF(D63>0,WEEKDAY(D63,1),0) -> 0 | AI63: =IF(D63>0,WEEKDAY(D63,1),0) -> 0 | AP63: =+AP62+1 -> 9 | AQ63: =SUMIF($D$54:$D$133,AP63,$I$54:$I$133) -> 0 | AR63: =IF(AQ63>10,1,0) -> 0 | AS63: =IF(AQ63>10,AP63,"") | AU63: {=IFERROR(IF(ROWS(AU$54:AU63)>COUNTA($AS$54:$AS$84),"",INDEX($AS$54:$AS$84,SMALL(IF($AS$54:$AS$84<>"",ROW(AS$54:AS$84)-ROW($AS$54)+1),ROWS(AU$54:AU63)))),"")} | BA63: =IF(AND(AQ63<=10,AQ63>8),"Več kot 8 ur",IF(AQ63>10,"Prekoračitev delovnih ur","")) | BD63: =IF(AC63="Nadurno delo",I63,0) -> 0 | BE63: =+AC63 -> 0 | BF63: =IF(AND(BE63="Nadurno delo",I63>2),1,0) -> 0 | DR63: =IF(AND(OR(H63=$DR$47,H63=$DR$50,H63=$DR$51,H63=$DR$52,H63=$DR$53),I63>8),1,0) -> 0
C64: =IF(D64>0,IF(AND(YEAR($D$54)=YEAR(D64),MONTH($D$54)=MONTH(D64)),"","!!!"),"") | F64: =D64 -> 0 | AF64: =IFERROR(LOOKUP(D64,$AP$54:$AP$133,$BA$54:$BA$133),"") | AH64: =IF(D64>0,WEEKDAY(D64,1),0) -> 0 | AI64: =IF(D64>0,WEEKDAY(D64,1),0) -> 0 | AP64: =+AP63+1 -> 10 | AQ64: =SUMIF($D$54:$D$133,AP64,$I$54:$I$133) -> 0 | AR64: =IF(AQ64>10,1,0) -> 0 | AS64: =IF(AQ64>10,AP64,"") | AU64: {=IFERROR(IF(ROWS(AU$54:AU64)>COUNTA($AS$54:$AS$84),"",INDEX($AS$54:$AS$84,SMALL(IF($AS$54:$AS$84<>"",ROW(AS$54:AS$84)-ROW($AS$54)+1),ROWS(AU$54:AU64)))),"")} | BA64: =IF(AND(AQ64<=10,AQ64>8),"Več kot 8 ur",IF(AQ64>10,"Prekoračitev delovnih ur","")) | BD64: =IF(AC64="Nadurno delo",I64,0) -> 0 | BE64: =+AC64 -> 0 | BF64: =IF(AND(BE64="Nadurno delo",I64>2),1,0) -> 0 | DR64: =IF(AND(OR(H64=$DR$47,H64=$DR$50,H64=$DR$51,H64=$DR$52,H64=$DR$53),I64>8),1,0) -> 0
C65: =IF(D65>0,IF(AND(YEAR($D$54)=YEAR(D65),MONTH($D$54)=MONTH(D65)),"","!!!"),"") | F65: =D65 -> 0 | AF65: =IFERROR(LOOKUP(D65,$AP$54:$AP$133,$BA$54:$BA$133),"") | AH65: =IF(D65>0,WEEKDAY(D65,1),0) -> 0 | AI65: =IF(D65>0,WEEKDAY(D65,1),0) -> 0 | AP65: =+AP64+1 -> 11 | AQ65: =SUMIF($D$54:$D$133,AP65,$I$54:$I$133) -> 0 | AR65: =IF(AQ65>10,1,0) -> 0 | AS65: =IF(AQ65>10,AP65,"") | AU65: {=IFERROR(IF(ROWS(AU$54:AU65)>COUNTA($AS$54:$AS$84),"",INDEX($AS$54:$AS$84,SMALL(IF($AS$54:$AS$84<>"",ROW(AS$54:AS$84)-ROW($AS$54)+1),ROWS(AU$54:AU65)))),"")} | BA65: =IF(AND(AQ65<=10,AQ65>8),"Več kot 8 ur",IF(AQ65>10,"Prekoračitev delovnih ur","")) | BD65: =IF(AC65="Nadurno delo",I65,0) -> 0 | BE65: =+AC65 -> 0 | BF65: =IF(AND(BE65="Nadurno delo",I65>2),1,0) -> 0 | DR65: =IF(AND(OR(H65=$DR$47,H65=$DR$50,H65=$DR$51,H65=$DR$52,H65=$DR$53),I65>8),1,0) -> 0
C66: =IF(D66>0,IF(AND(YEAR($D$54)=YEAR(D66),MONTH($D$54)=MONTH(D66)),"","!!!"),"") | F66: =D66 -> 0 | AF66: =IFERROR(LOOKUP(D66,$AP$54:$AP$133,$BA$54:$BA$133),"") | AH66: =IF(D66>0,WEEKDAY(D66,1),0) -> 0 | AI66: =IF(D66>0,WEEKDAY(D66,1),0) -> 0 | AP66: =+AP65+1 -> 12 | AQ66: =SUMIF($D$54:$D$133,AP66,$I$54:$I$133) -> 0 | AR66: =IF(AQ66>10,1,0) -> 0 | AS66: =IF(AQ66>10,AP66,"") | AU66: {=IFERROR(IF(ROWS(AU$54:AU66)>COUNTA($AS$54:$AS$84),"",INDEX($AS$54:$AS$84,SMALL(IF($AS$54:$AS$84<>"",ROW(AS$54:AS$84)-ROW($AS$54)+1),ROWS(AU$54:AU66)))),"")} | BA66: =IF(AND(AQ66<=10,AQ66>8),"Več kot 8 ur",IF(AQ66>10,"Prekoračitev delovnih ur","")) | BD66: =IF(AC66="Nadurno delo",I66,0) -> 0 | BE66: =+AC66 -> 0 | BF66: =IF(AND(BE66="Nadurno delo",I66>2),1,0) -> 0 | DR66: =IF(AND(OR(H66=$DR$47,H66=$DR$50,H66=$DR$51,H66=$DR$52,H66=$DR$53),I66>8),1,0) -> 0
C67: =IF(D67>0,IF(AND(YEAR($D$54)=YEAR(D67),MONTH($D$54)=MONTH(D67)),"","!!!"),"") | F67: =D67 -> 0 | AF67: =IFERROR(LOOKUP(D67,$AP$54:$AP$133,$BA$54:$BA$133),"") | AH67: =IF(D67>0,WEEKDAY(D67,1),0) -> 0 | AI67: =IF(D67>0,WEEKDAY(D67,1),0) -> 0 | AP67: =+AP66+1 -> 13 | AQ67: =SUMIF($D$54:$D$133,AP67,$I$54:$I$133) -> 0 | AR67: =IF(AQ67>10,1,0) -> 0 | AS67: =IF(AQ67>10,AP67,"") | AU67: {=IFERROR(IF(ROWS(AU$54:AU67)>COUNTA($AS$54:$AS$84),"",INDEX($AS$54:$AS$84,SMALL(IF($AS$54:$AS$84<>"",ROW(AS$54:AS$84)-ROW($AS$54)+1),ROWS(AU$54:AU67)))),"")} | BA67: =IF(AND(AQ67<=10,AQ67>8),"Več kot 8 ur",IF(AQ67>10,"Prekoračitev delovnih ur","")) | BD67: =IF(AC67="Nadurno delo",I67,0) -> 0 | BE67: =+AC67 -> 0 | BF67: =IF(AND(BE67="Nadurno delo",I67>2),1,0) -> 0 | DR67: =IF(AND(OR(H67=$DR$47,H67=$DR$50,H67=$DR$51,H67=$DR$52,H67=$DR$53),I67>8),1,0) -> 0
... C84: =IF(D84>0,IF(AND(YEAR($D$54)=YEAR(D84),MONTH($D$54)=MONTH(D84)),"","!!!"),"") | F84: =D84 -> 0 | AF84: =IFERROR(LOOKUP(D84,$AP$54:$AP$133,$BA$54:$BA$133),"") | AH84: =IF(D84>0,WEEKDAY(D84,1),0) -> 0 | AI84: =IF(D84>0,WEEKDAY(D84,1),0) -> 0 | AP84: =+AP83+1 -> 30 | AQ84: =SUMIF($D$54:$D$133,AP84,$I$54:$I$133) -> 0 | AR84: =IF(AQ84>10,1,0) -> 0 | AS84: =IF(AQ84>10,AP84,"") | AU84: {=IFERROR(IF(ROWS(AU$54:AU84)>COUNTA($AS$54:$AS$84),"",INDEX($AS$54:$AS$84,SMALL(IF($AS$54:$AS$84<>"",ROW(AS$54:AS$84)-ROW($AS$54)+1),ROWS(AU$54:AU84)))),"")} | BA84: =IF(AND(AQ84<=10,AQ84>8),"Več kot 8 ur",IF(AQ84>10,"Prekoračitev delovnih ur","")) | BD84: =IF(AC84="Nadurno delo",I84,0) -> 0 | BE84: =+AC84 -> 0 | BF84: =IF(AND(BE84="Nadurno delo",I84>2),1,0) -> 0 | DR84: =IF(AND(OR(H84=$DR$47,H84=$DR$50,H84=$DR$51,H84=$DR$52,H84=$DR$53),I84>8),1,0) -> 0
C85: =IF(D85>0,IF(AND(YEAR($D$54)=YEAR(D85),MONTH($D$54)=MONTH(D85)),"","!!!"),"") | F85: =D85 -> 0 | AF85: =IFERROR(LOOKUP(D85,$AP$54:$AP$133,$BA$54:$BA$133),"") | AH85: =IF(D85>0,WEEKDAY(D85,1),0) -> 0 | AI85: =IF(D85>0,WEEKDAY(D85,1),0) -> 0 | BA85: =IF(AND(AQ85<=10,AQ85>8),"Več kot 8 ur",IF(AQ85>10,"Prekoračitev delovnih ur","")) | BD85: =IF(AC85="Nadurno delo",I85,0) -> 0 | BE85: =+AC85 -> 0 | BF85: =IF(AND(BE85="Nadurno delo",I85>2),1,0) -> 0 | DR85: =IF(AND(OR(H85=$DR$47,H85=$DR$50,H85=$DR$51,H85=$DR$52,H85=$DR$53),I85>8),1,0) -> 0
C86: =IF(D86>0,IF(AND(YEAR($D$54)=YEAR(D86),MONTH($D$54)=MONTH(D86)),"","!!!"),"") | F86: =D86 -> 0 | AF86: =IFERROR(LOOKUP(D86,$AP$54:$AP$133,$BA$54:$BA$133),"") | AH86: =IF(D86>0,WEEKDAY(D86,1),0) -> 0 | AI86: =IF(D86>0,WEEKDAY(D86,1),0) -> 0 | BA86: =IF(AND(AQ86<=10,AQ86>8),"Več kot 8 ur",IF(AQ86>10,"Prekoračitev delovnih ur","")) | BD86: =IF(AC86="Nadurno delo",I86,0) -> 0 | BE86: =+AC86 -> 0 | BF86: =IF(AND(BE86="Nadurno delo",I86>2),1,0) -> 0 | DR86: =IF(AND(OR(H86=$DR$47,H86=$DR$50,H86=$DR$51,H86=$DR$52,H86=$DR$53),I86>8),1,0) -> 0
C87: =IF(D87>0,IF(AND(YEAR($D$54)=YEAR(D87),MONTH($D$54)=MONTH(D87)),"","!!!"),"") | F87: =D87 -> 0 | AF87: =IFERROR(LOOKUP(D87,$AP$54:$AP$133,$BA$54:$BA$133),"") | AH87: =IF(D87>0,WEEKDAY(D87,1),0) -> 0 | AI87: =IF(D87>0,WEEKDAY(D87,1),0) -> 0 | BA87: =IF(AND(AQ87<=10,AQ87>8),"Več kot 8 ur",IF(AQ87>10,"Prekoračitev delovnih ur","")) | BD87: =IF(AC87="Nadurno delo",I87,0) -> 0 | BE87: =+AC87 -> 0 | BF87: =IF(AND(BE87="Nadurno delo",I87>2),1,0) -> 0 | DR87: =IF(AND(OR(H87=$DR$47,H87=$DR$50,H87=$DR$51,H87=$DR$52,H87=$DR$53),I87>8),1,0) -> 0
C88: =IF(D88>0,IF(AND(YEAR($D$54)=YEAR(D88),MONTH($D$54)=MONTH(D88)),"","!!!"),"") | F88: =D88 -> 0 | AF88: =IFERROR(LOOKUP(D88,$AP$54:$AP$133,$BA$54:$BA$133),"") | AH88: =IF(D88>0,WEEKDAY(D88,1),0) -> 0 | AI88: =IF(D88>0,WEEKDAY(D88,1),0) -> 0 | BA88: =IF(AND(AQ88<=10,AQ88>8),"Več kot 8 ur",IF(AQ88>10,"Prekoračitev delovnih ur","")) | BD88: =IF(AC88="Nadurno delo",I88,0) -> 0 | BE88: =+AC88 -> 0 | BF88: =IF(AND(BE88="Nadurno delo",I88>2),1,0) -> 0 | DR88: =IF(AND(OR(H88=$DR$47,H88=$DR$50,H88=$DR$51,H88=$DR$52,H88=$DR$53),I88>8),1,0) -> 0
C89: =IF(D89>0,IF(AND(YEAR($D$54)=YEAR(D89),MONTH($D$54)=MONTH(D89)),"","!!!"),"") | F89: =D89 -> 0 | AF89: =IFERROR(LOOKUP(D89,$AP$54:$AP$133,$BA$54:$BA$133),"") | AH89: =IF(D89>0,WEEKDAY(D89,1),0) -> 0 | AI89: =IF(D89>0,WEEKDAY(D89,1),0) -> 0 | BA89: =IF(AND(AQ89<=10,AQ89>8),"Več kot 8 ur",IF(AQ89>10,"Prekoračitev delovnih ur","")) | BD89: =IF(AC89="Nadurno delo",I89,0) -> 0 | BE89: =+AC89 -> 0 | BF89: =IF(AND(BE89="Nadurno delo",I89>2),1,0) -> 0 | DR89: =IF(AND(OR(H89=$DR$47,H89=$DR$50,H89=$DR$51,H89=$DR$52,H89=$DR$53),I89>8),1,0) -> 0
C90: =IF(D90>0,IF(AND(YEAR($D$54)=YEAR(D90),MONTH($D$54)=MONTH(D90)),"","!!!"),"") | F90: =D90 -> 0 | AF90: =IFERROR(LOOKUP(D90,$AP$54:$AP$133,$BA$54:$BA$133),"") | AH90: =IF(D90>0,WEEKDAY(D90,1),0) -> 0 | AI90: =IF(D90>0,WEEKDAY(D90,1),0) -> 0 | BA90: =IF(AND(AQ90<=10,AQ90>8),"Več kot 8 ur",IF(AQ90>10,"Prekoračitev delovnih ur","")) | BD90: =IF(AC90="Nadurno delo",I90,0) -> 0 | BE90: =+AC90 -> 0 | BF90: =IF(AND(BE90="Nadurno delo",I90>2),1,0) -> 0 | DR90: =IF(AND(OR(H90=$DR$47,H90=$DR$50,H90=$DR$51,H90=$DR$52,H90=$DR$53),I90>8),1,0) -> 0
C91: =IF(D91>0,IF(AND(YEAR($D$54)=YEAR(D91),MONTH($D$54)=MONTH(D91)),"","!!!"),"") | F91: =D91 -> 0 | AF91: =IFERROR(LOOKUP(D91,$AP$54:$AP$133,$BA$54:$BA$133),"") | AH91: =IF(D91>0,WEEKDAY(D91,1),0) -> 0 | AI91: =IF(D91>0,WEEKDAY(D91,1),0) -> 0 | BA91: =IF(AND(AQ91<=10,AQ91>8),"Več kot 8 ur",IF(AQ91>10,"Prekoračitev delovnih ur","")) | BD91: =IF(AC91="Nadurno delo",I91,0) -> 0 | BE91: =+AC91 -> 0 | BF91: =IF(AND(BE91="Nadurno delo",I91>2),1,0) -> 0 | DR91: =IF(AND(OR(H91=$DR$47,H91=$DR$50,H91=$DR$51,H91=$DR$52,H91=$DR$53),I91>8),1,0) -> 0
C92: =IF(D92>0,IF(AND(YEAR($D$54)=YEAR(D92),MONTH($D$54)=MONTH(D92)),"","!!!"),"") | F92: =D92 -> 0 | AF92: =IFERROR(LOOKUP(D92,$AP$54:$AP$133,$BA$54:$BA$133),"") | AH92: =IF(D92>0,WEEKDAY(D92,1),0) -> 0 | AI92: =IF(D92>0,WEEKDAY(D92,1),0) -> 0 | BA92: =IF(AND(AQ92<=10,AQ92>8),"Več kot 8 ur",IF(AQ92>10,"Prekoračitev delovnih ur","")) | BD92: =IF(AC92="Nadurno delo",I92,0) -> 0 | BE92: =+AC92 -> 0 | BF92: =IF(AND(BE92="Nadurno delo",I92>2),1,0) -> 0 | DR92: =IF(AND(OR(H92=$DR$47,H92=$DR$50,H92=$DR$51,H92=$DR$52,H92=$DR$53),I92>8),1,0) -> 0
C93: =IF(D93>0,IF(AND(YEAR($D$54)=YEAR(D93),MONTH($D$54)=MONTH(D93)),"","!!!"),"") | F93: =D93 -> 0 | AF93: =IFERROR(LOOKUP(D93,$AP$54:$AP$133,$BA$54:$BA$133),"") | AH93: =IF(D93>0,WEEKDAY(D93,1),0) -> 0 | AI93: =IF(D93>0,WEEKDAY(D93,1),0) -> 0 | BA93: =IF(AND(AQ93<=10,AQ93>8),"Več kot 8 ur",IF(AQ93>10,"Prekoračitev delovnih ur","")) | BD93: =IF(AC93="Nadurno delo",I93,0) -> 0 | BE93: =+AC93 -> 0 | BF93: =IF(AND(BE93="Nadurno delo",I93>2),1,0) -> 0 | DR93: =IF(AND(OR(H93=$DR$47,H93=$DR$50,H93=$DR$51,H93=$DR$52,H93=$DR$53),I93>8),1,0) -> 0
C94: =IF(D94>0,IF(AND(YEAR($D$54)=YEAR(D94),MONTH($D$54)=MONTH(D94)),"","!!!"),"") | F94: =D94 -> 0 | AF94: =IFERROR(LOOKUP(D94,$AP$54:$AP$133,$BA$54:$BA$133),"") | AH94: =IF(D94>0,WEEKDAY(D94,1),0) -> 0 | AI94: =IF(D94>0,WEEKDAY(D94,1),0) -> 0 | BA94: =IF(AND(AQ94<=10,AQ94>8),"Več kot 8 ur",IF(AQ94>10,"Prekoračitev delovnih ur","")) | BD94: =IF(AC94="Nadurno delo",I94,0) -> 0 | BE94: =+AC94 -> 0 | BF94: =IF(AND(BE94="Nadurno delo",I94>2),1,0) -> 0 | DR94: =IF(AND(OR(H94=$DR$47,H94=$DR$50,H94=$DR$51,H94=$DR$52,H94=$DR$53),I94>8),1,0) -> 0
C95: =IF(D95>0,IF(AND(YEAR($D$54)=YEAR(D95),MONTH($D$54)=MONTH(D95)),"","!!!"),"") | F95: =D95 -> 0 | AF95: =IFERROR(LOOKUP(D95,$AP$54:$AP$133,$BA$54:$BA$133),"") | AH95: =IF(D95>0,WEEKDAY(D95,1),0) -> 0 | AI95: =IF(D95>0,WEEKDAY(D95,1),0) -> 0 | BA95: =IF(AND(AQ95<=10,AQ95>8),"Več kot 8 ur",IF(AQ95>10,"Prekoračitev delovnih ur","")) | BD95: =IF(AC95="Nadurno delo",I95,0) -> 0 | BE95: =+AC95 -> 0 | BF95: =IF(AND(BE95="Nadurno delo",I95>2),1,0) -> 0 | DR95: =IF(AND(OR(H95=$DR$47,H95=$DR$50,H95=$DR$51,H95=$DR$52,H95=$DR$53),I95>8),1,0) -> 0
C96: =IF(D96>0,IF(AND(YEAR($D$54)=YEAR(D96),MONTH($D$54)=MONTH(D96)),"","!!!"),"") | F96: =D96 -> 0 | AF96: =IFERROR(LOOKUP(D96,$AP$54:$AP$133,$BA$54:$BA$133),"") | AH96: =IF(D96>0,WEEKDAY(D96,1),0) -> 0 | AI96: =IF(D96>0,WEEKDAY(D96,1),0) -> 0 | BA96: =IF(AND(AQ96<=10,AQ96>8),"Več kot 8 ur",IF(AQ96>10,"Prekoračitev delovnih ur","")) | BD96: =IF(AC96="Nadurno delo",I96,0) -> 0 | BE96: =+AC96 -> 0 | BF96: =IF(AND(BE96="Nadurno delo",I96>2),1,0) -> 0 | DR96: =IF(AND(OR(H96=$DR$47,H96=$DR$50,H96=$DR$51,H96=$DR$52,H96=$DR$53),I96>8),1,0) -> 0
... C126: =IF(D126>0,IF(AND(YEAR($D$54)=YEAR(D126),MONTH($D$54)=MONTH(D126)),"","!!!"),"") | F126: =D126 -> 0 | AF126: =IFERROR(LOOKUP(D126,$AP$54:$AP$133,$BA$54:$BA$133),"") | AH126: =IF(D126>0,WEEKDAY(D126,1),0) -> 0 | AI126: =IF(D126>0,WEEKDAY(D126,1),0) -> 0 | BA126: =IF(AND(AQ126<=10,AQ126>8),"Več kot 8 ur",IF(AQ126>10,"Prekoračitev delovnih ur","")) | BD126: =IF(AC126="Nadurno delo",I126,0) -> 0 | BE126: =+AC126 -> 0 | BF126: =IF(AND(BE126="Nadurno delo",I126>2),1,0) -> 0 | DR126: =IF(AND(OR(H126=$DR$47,H126=$DR$50,H126=$DR$51,H126=$DR$52,H126=$DR$53),I126>8),1,0) -> 0
C127: =IF(D127>0,IF(AND(YEAR($D$54)=YEAR(D127),MONTH($D$54)=MONTH(D127)),"","!!!"),"") | F127: =D127 -> 0 | AF127: =IFERROR(LOOKUP(D127,$AP$54:$AP$133,$BA$54:$BA$133),"") | AH127: =IF(D127>0,WEEKDAY(D127,1),0) -> 0 | AI127: =IF(D127>0,WEEKDAY(D127,1),0) -> 0 | BA127: =IF(AND(AQ127<=10,AQ127>8),"Več kot 8 ur",IF(AQ127>10,"Prekoračitev delovnih ur","")) | BD127: =IF(AC127="Nadurno delo",I127,0) -> 0 | BE127: =+AC127 -> 0 | BF127: =IF(AND(BE127="Nadurno delo",I127>2),1,0) -> 0 | DR127: =IF(AND(OR(H127=$DR$50,H127=$DR$51,H127=$DR$52,H127=$DR$53),I127>8),1,0) -> 0
C128: =IF(D128>0,IF(AND(YEAR($D$54)=YEAR(D128),MONTH($D$54)=MONTH(D128)),"","!!!"),"") | F128: =D128 -> 0 | AF128: =IFERROR(LOOKUP(D128,$AP$54:$AP$133,$BA$54:$BA$133),"") | AH128: =IF(D128>0,WEEKDAY(D128,1),0) -> 0 | AI128: =IF(D128>0,WEEKDAY(D128,1),0) -> 0 | BA128: =IF(AND(AQ128<=10,AQ128>8),"Več kot 8 ur",IF(AQ128>10,"Prekoračitev delovnih ur","")) | BD128: =IF(AC128="Nadurno delo",I128,0) -> 0 | BE128: =+AC128 -> 0 | BF128: =IF(AND(BE128="Nadurno delo",I128>2),1,0) -> 0 | DR128: =IF(AND(OR(H128=$DR$50,H128=$DR$51,H128=$DR$52,H128=$DR$53),I128>8),1,0) -> 0
C129: =IF(D129>0,IF(AND(YEAR($D$54)=YEAR(D129),MONTH($D$54)=MONTH(D129)),"","!!!"),"") | F129: =D129 -> 0 | AF129: =IFERROR(LOOKUP(D129,$AP$54:$AP$133,$BA$54:$BA$133),"") | AH129: =IF(D129>0,WEEKDAY(D129,1),0) -> 0 | AI129: =IF(D129>0,WEEKDAY(D129,1),0) -> 0 | BA129: =IF(AND(AQ129<=10,AQ129>8),"Več kot 8 ur",IF(AQ129>10,"Prekoračitev delovnih ur","")) | BD129: =IF(AC129="Nadurno delo",I129,0) -> 0 | BE129: =+AC129 -> 0 | BF129: =IF(AND(BE129="Nadurno delo",I129>2),1,0) -> 0 | DR129: =IF(AND(OR(H129=$DR$50,H129=$DR$51,H129=$DR$52,H129=$DR$53),I129>8),1,0) -> 0
C130: =IF(D130>0,IF(AND(YEAR($D$54)=YEAR(D130),MONTH($D$54)=MONTH(D130)),"","!!!"),"") | F130: =D130 -> 0 | AF130: =IFERROR(LOOKUP(D130,$AP$54:$AP$133,$BA$54:$BA$133),"") | AH130: =IF(D130>0,WEEKDAY(D130,1),0) -> 0 | AI130: =IF(D130>0,WEEKDAY(D130,1),0) -> 0 | BA130: =IF(AND(AQ130<=10,AQ130>8),"Več kot 8 ur",IF(AQ130>10,"Prekoračitev delovnih ur","")) | BD130: =IF(AC130="Nadurno delo",I130,0) -> 0 | BE130: =+AC130 -> 0 | BF130: =IF(AND(BE130="Nadurno delo",I130>2),1,0) -> 0 | DR130: =IF(AND(OR(H130=$DR$50,H130=$DR$51,H130=$DR$52,H130=$DR$53),I130>8),1,0) -> 0
C131: =IF(D131>0,IF(AND(YEAR($D$54)=YEAR(D131),MONTH($D$54)=MONTH(D131)),"","!!!"),"") | F131: =D131 -> 0 | AF131: =IFERROR(LOOKUP(D131,$AP$54:$AP$133,$BA$54:$BA$133),"") | AH131: =IF(D131>0,WEEKDAY(D131,1),0) -> 0 | AI131: =AT54&TEXT(AU54,"D")&" "&TEXT(AU55,"D")&" "&TEXT(AU56,"D")&" "&TEXT(AU57,"D")&" "&TEXT(AU58,"D")&TEXT(AU59,"D") | BA131: =IF(AND(AQ131<=10,AQ131>8),"Več kot 8 ur",IF(AQ131>10,"Prekoračitev delovnih ur","")) | BD131: =IF(AC131="Nadurno delo",I131,0) -> 0 | BE131: =+AC131 -> 0 | BF131: =IF(AND(BE131="Nadurno delo",I131>2),1,0) -> 0 | DR131: =IF(AND(OR(H131=$DR$50,H131=$DR$51,H131=$DR$52,H131=$DR$53),I131>8),1,0) -> 0
C132: =IF(D132>0,IF(AND(YEAR($D$54)=YEAR(D132),MONTH($D$54)=MONTH(D132)),"","!!!"),"") | F132: =D132 -> 0 | AF132: =IFERROR(LOOKUP(D132,$AP$54:$AP$133,$BA$54:$BA$133),"") | AH132: =IF(D132>0,WEEKDAY(D132,1),0) -> 0 | BA132: =IF(AND(AQ132<=10,AQ132>8),"Več kot 8 ur",IF(AQ132>10,"Prekoračitev delovnih ur","")) | BD132: =IF(AC132="Nadurno delo",I132,0) -> 0 | BE132: =+AC132 -> 0 | BF132: =IF(AND(BE132="Nadurno delo",I132>2),1,0) -> 0 | DR132: =IF(AND(OR(H132=$DR$50,H132=$DR$51,H132=$DR$52,H132=$DR$53),I132>8),1,0) -> 0
C133: =IF(D133>0,IF(AND(YEAR($D$54)=YEAR(D133),MONTH($D$54)=MONTH(D133)),"","!!!"),"") | F133: =D133 -> 0 | AF133: =IFERROR(LOOKUP(D133,$AP$54:$AP$133,$BA$54:$BA$133),"") | AH133: =IF(D133>0,WEEKDAY(D133,1),0) -> 0 | BA133: =IF(AND(AQ133<=10,AQ133>8),"Več kot 8 ur",IF(AQ133>10,"Prekoračitev delovnih ur","")) | BD133: =IF(AC133="Nadurno delo",I133,0) -> 0 | BE133: =+AC133 -> 0 | BF133: =IF(AND(BE133="Nadurno delo",I133>2),1,0) -> 0 | DR133: =IF(AND(OR(H133=$DR$50,H133=$DR$51,H133=$DR$52,H133=$DR$53),I133>8),1,0) -> 0
L135: Število ur, ki se ne nanaša na projektno delo
DR136: =IF(AND(OR(H136=$DR$50,H136=$DR$51,H136=$DR$52,H136=$DR$53),I136>8),1,0) -> 0
D137: Projektne ure v časovnici: | K137: =SUM(I54:I133)-K140-K141-Nadure -> 0 | L137: =AT54&TEXT(AU54,"D")&" "&TEXT(AU55,"D")&" "&TEXT(AU56,"D")&" "&TEXT(AU57,"D")&" "&TEXT(AU58,"D")&TEXT(AU59,"D") | AI137: =SUMIF(I28:I47,"Delno zaposlen s fiksnim %",V28:V47) -> 0 | AJ137: sum fx %
D138: Št. nadur | K138: =Nadure -> 0
D139: Ure iz naslova fiksne razporeditve | K139: =IF(MES_FOND_HR>0,IF((AI137*(MES_FOND_HR-NEREF-REF))>0,AI137*(MES_FOND_HR-NEREF-REF),0),0) -> 0
D140: Ure iz naslova nerefundiranih nadomestil (bolniška, dopusti...) | K140: =SUM(AJ50:AJ52) -> 0
D141: Ure iz naslova refundiranih nadomestil (nega, krvodajalstvo…) | K141: =SUM(AJ53:AJ54) -> 0
D142: SKUPAJ ure (brez refundiranih ur) | K142: =+K137+K140+K139+K138+AC25 -> 0 | L142: =IF(L174=0,"",IF(K142>(MES_FOND_HR+Nadure),"POZOR!!! Prekoračitev mesečnega fonda ur!",""))
D148: III. MESEČNI IZDATKI ZA DELO
AP149: =+D149 -> 0
D150: Izdatki za delo | R150: Izjava
D152: Podatki se prepišejo iz plačilne liste. | R152: - Izjavljam, da podatki v časovnici odražajo resnično in pravilno količino opravljenega projektnega dela v mesecu. - Izjavljam tudi, da podatki o izdatkih za celotno mesečno delo odražajo resnično in pravilno višino vseh izdatkov za delo osebe, redno zaposlene pri projektnemu partnerju.
D154: Številka dokumenta | I154: =IF(I13="","",I13 &" - " &TEXT(I155,"MM") &"/" &TEXT(I156,"YYYY"))
D155: Leto | I155: =I22 -> 0
D156: Mesec | I156: =MES -> 0
D157: Datum plačila
D160: Bruto plača (BRUTO I) | R160: Naziv organizacije | AI160: 0
D161: {=IF(OR(AC54:AC133="Nadurno delo"),"Višina dodatka za nadurno delo","")} | K161: =IF(AND(Nadure>0,EUR_NADUR=0),"!!!","") | R161: =+I17 -> 0 | AI161: 0.161
D162: Stopnja prispevka delodajalca | AI162: 0.1634
D163: Prispevki in davki delodajalca | L163: =IF(D160="Letna Bruto plača (BRUTO I)",0,L160*L162) -> 0 | AI163: 0.1604
AI164: 0.1167
D165: Povračilo malice | R165: Podpis zaposlene osebe | AI165: 0.1344
...

Sheet Izračun letne urne postavke
C8: IZRAČUN LETNE URNE POSTAVKE
D11: I. SPLOŠNI PODATKI
D12: =IF(J13="","","Št. dok.: " & J13 &" - " &TEXT(J21,"YYY") &"/" &TEXT(J22,"YYYY"))
D13: Ime in priimek | J13: =IF('Dnevna časovnica'!I13=0,"",'Dnevna časovnica'!I13) | AP13: 0
D14: Program sodelovanja | J14: =IF('Dnevna časovnica'!I14=0,"",'Dnevna časovnica'!I14) | AP14: 0.161
D15: Naziv projekta | J15: =IF('Dnevna časovnica'!I15=0,"",'Dnevna časovnica'!I15) | AP15: 0.1634
D16: Vloga na projektu | J16: =IF('Dnevna časovnica'!I16=0,"",'Dnevna časovnica'!I16) | AP16: 0.1604
D17: Redno zaposlen pri | J17: =IF('Dnevna časovnica'!I17=0,"",'Dnevna časovnica'!I17) | AP17: 0.1167
AP18: 0.1344
D19: Obračunsko obdobje
D21: Začetek obračunskega obdobja
D22: Konec obračunskega obdobja | J22: =IF(J21=0,"",DATE(YEAR(J21)+1,MONTH(J21),DAY(J21)))
D27: II. IZDATKI ZA DELO
I30: Bruto plača (BRUTO I) | K30: Prispevki in davki delodajalca | V30: Malica in prevoz | Z30: Drugi upravičeni izdatki iz delovnega razmerja | AI30: SKUPAJ
K31: % | Q31: znesek | Z31: znesek | AC31: opomba
D33: 1 | E33: =IF(J21=0,"",J21) | Q33: =+K33*I33 -> 0 | AI33: =+Z33+V33+Q33+I33 -> 0
D35: 2 | E35: =IFERROR(DATE(YEAR(E33),MONTH(E33)+1,DAY(E33)),"") | Q35: =+K35*I35 -> 0 | AI35: =+Z35+V35+Q35+I35 -> 0
D37: 3 | E37: =IFERROR(DATE(YEAR(E35),MONTH(E35)+1,DAY(E35)),"") | Q37: =+K37*I37 -> 0 | AI37: =+Z37+V37+Q37+I37 -> 0
D39: 4 | E39: =IFERROR(DATE(YEAR(E37),MONTH(E37)+1,DAY(E37)),"") | Q39: =+K39*I39 -> 0 | AI39: =+Z39+V39+Q39+I39 -> 0
D41: 5 | E41: =IFERROR(DATE(YEAR(E39),MONTH(E39)+1,DAY(E39)),"") | Q41: =+K41*I41 -> 0 | AI41: =+Z41+V41+Q41+I41 -> 0
D43: 6 | E43: =IFERROR(DATE(YEAR(E41),MONTH(E41)+1,DAY(E41)),"") | Q43: =+K43*I43 -> 0 | AI43: =+Z43+V43+Q43+I43 -> 0
D45: 7 | E45: =IFERROR(DATE(YEAR(E43),MONTH(E43)+1,DAY(E43)),"") | Q45: =+K45*I45 -> 0 | AI45: =+Z45+V45+Q45+I45 -> 0
D47: 8 | E47: =IFERROR(DATE(YEAR(E45),MONTH(E45)+1,DAY(E45)),"") | Q47: =+K47*I47 -> 0 | AI47: =+Z47+V47+Q47+I47 -> 0
D49: 9 | E49: =IFERROR(DATE(YEAR(E47),MONTH(E47)+1,DAY(E47)),"") | Q49: =+K49*I49 -> 0 | AI49: =+Z49+V49+Q49+I49 -> 0
D51: 10 | E51: =IFERROR(DATE(YEAR(E49),MONTH(E49)+1,DAY(E49)),"") | Q51: =+K51*I51 -> 0 | AI51: =+Z51+V51+Q51+I51 -> 0
D53: 11 | E53: =IFERROR(DATE(YEAR(E51),MONTH(E51)+1,DAY(E51)),"") | Q53: =+K53*I53 -> 0 | AI53: =+Z53+V53+Q53+I53 -> 0
D55: 12 | E55: =IFERROR(DATE(YEAR(E53),MONTH(E53)+1,DAY(E53)),"") | Q55: =+K55*I55 -> 0 | AI55: =+Z55+V55+Q55+I55 -> 0
AI57: =+AI55+AI53+AI51+AI49+AI47+AI45+AI43+AI41+AI39+AI37+AI35+AI33 -> 0
E59: VIŠINA LETNE URNE POSTAVKE | AI59: =+AI57/1720 -> 0
D62: III. IZJAVA
D64: - Izjavljam tudi, da podatki o izdatkih za celotno mesečno delo odražajo resnično in pravilno višino vseh izdatkov za delo osebe, redno zaposlene pri projektnemu partnerju. | E64: - Izjavljam, da podatki o izdatkih po mesecih odražajo resnično in pravilno višino vseh izdatkov za delo osebe, redno zaposlene pri projektnemu partnerju.
E69: Naziv organizacije | T69: Podpis odgovorne osebe in žig organizacije (v kolikor posluje z žigom)
E71: =J17
E75: Podpis zaposlene osebe | T75: Datum
