Workbook
Name _MES1: 'Dnevna časovnica'!$I$21
Name BOL: 'Dnevna časovnica'!$L$175
Name BOL_PR: 'Dnevna časovnica'!$AH$140
Name BRUTO: 'Dnevna časovnica'!$L$160
Name BRUTO_LETNI: 'Dnevna časovnica'!$L$159
Name DDOWN: 'Dnevna časovnica'!$AL$28:INDEX('Dnevna časovnica'!$AL$28:$AL$51,COUNTIF('Dnevna časovnica'!$AL$28:$AL$51,"?*"))
Name DDOWN2: 'Dnevna časovnica'!$HL$28:INDEX('Dnevna časovnica'!$HL$28:$HL$51,COUNTIF('Dnevna časovnica'!$HL$28:$HL$51,"?*"))
Name DDW_DS: 'Dnevna časovnica'!$EA$28:INDEX('Dnevna časovnica'!$EA$28:$EA$45,COUNTIF('Dnevna časovnica'!$EA$28:$EA$45,"?*"))
Name DDWN_DS: 'Dnevna časovnica'!$EA$28:INDEX('Dnevna časovnica'!$EA$28:$EA$53,COUNTIF('Dnevna časovnica'!$EA$28:$EA$53,"?*"))
Name DODNAD_RD: 'Dnevna časovnica'!$BF$48
Name DODNAD1: 'Dnevna časovnica'!$BF$28
Name DODNAD10: 'Dnevna časovnica'!$BF$39
Name DODNAD11: 'Dnevna časovnica'!$BF$40
Name DODNAD12: 'Dnevna časovnica'!$BF$41
Name DODNAD13: 'Dnevna časovnica'!$BF$42
Name DODNAD14: 'Dnevna časovnica'!$BF$43
Name DODNAD15: 'Dnevna časovnica'!$BF$44
Name DODNAD16: 'Dnevna časovnica'!$BF$45
Name DODNAD17: 'Dnevna časovnica'!$BF$46
Name DODNAD18: 'Dnevna časovnica'!$BF$47
Name DODNAD2: 'Dnevna časovnica'!$BF$31
Name DODNAD3: 'Dnevna časovnica'!$BF$32
Name DODNAD4: 'Dnevna časovnica'!$BF$33
Name DODNAD5: 'Dnevna časovnica'!$BF$34
Name DODNAD6: 'Dnevna časovnica'!$BF$35
Name DODNAD7: 'Dnevna časovnica'!$BF$36
Name DODNAD8: 'Dnevna časovnica'!$BF$37
Name DODNAD9: 'Dnevna časovnica'!$BF$38
Name DS_HRPOST: #REF!
Name EUR_NADUR: 'Dnevna časovnica'!$L$161
Name HR_POSTAVKA: 'Dnevna časovnica'!$L$177
Name LETNA_HR_POSTAVKA: 'Dnevna časovnica'!$L$179
Name MES: 'Dnevna časovnica'!$I$21
Name MES_FOND_HR: 'Dnevna časovnica'!$L$174
Name Nadure: 'Dnevna časovnica'!$BE$51
Name Nadure_Redno: 'Dnevna časovnica'!$BE$48
Name Nadurno1: 'Dnevna časovnica'!$BE$28
Name Nadurno10: 'Dnevna časovnica'!$BE$39
Name Nadurno11: 'Dnevna časovnica'!$BE$40
Name Nadurno12: 'Dnevna časovnica'!$BE$41
Name Nadurno13: 'Dnevna časovnica'!$BE$42
Name Nadurno14: 'Dnevna časovnica'!$BE$43
Name Nadurno15: 'Dnevna časovnica'!$BE$44
Name Nadurno16: 'Dnevna časovnica'!$BE$45
Name Nadurno17: 'Dnevna časovnica'!$BE$46
Name Nadurno18: 'Dnevna časovnica'!$BE$47
Name Nadurno2: 'Dnevna časovnica'!$BE$31
Name Nadurno3: 'Dnevna časovnica'!$BE$32
Name Nadurno4: 'Dnevna časovnica'!$BE$33
Name Nadurno5: 'Dnevna časovnica'!$BE$34
Name Nadurno6: 'Dnevna časovnica'!$BE$35
Name Nadurno7: 'Dnevna časovnica'!$BE$36
Name Nadurno8: 'Dnevna časovnica'!$BE$37
Name Nadurno9: 'Dnevna časovnica'!$BE$38
Name NEREF: 'Dnevna časovnica'!$K$140
Name PR_HR: 'Dnevna časovnica'!$R$191
Name PR_HR10: 'Dnevna časovnica'!$R$209
Name PR_HR11: 'Dnevna časovnica'!$R$211
Name PR_HR12: 'Dnevna časovnica'!$R$213
Name PR_HR13: 'Dnevna časovnica'!$R$215

Sheet Dnevna časovnica
AG3: var: | AH3: =COUNTIF(I28:P47,AG22) -> 0
AG4: fix: | AH4: =COUNTIF(I28:P47,AG23) -> 0
C8: DNEVNA ČASOVNICA ZAPOSLENEGA NA PROJEKTU
D11: I. SPLOŠNI PODATKI
D13: Ime in priimek
D14: Program sodelovanja
D15: Naziv projekta
D16: Vloga na projektu
D17: Redno zaposlen pri
D19: Obračunsko obdobje
AI20: Mesečna urna postavka
D21: Mesec | I21: =D54 -> 0 | AI21: Letna urna postavka
D22: Leto | I22: =D54 -> 0 | AG22: Delno zaposlen z variabilnim %
AG23: Delno zaposlen s fiksnim %
D24: Seznam projektov in način obračunavanja stroškov dela | AM24: {=$AL$28:INDEX($AL$28:$AL$47,COUNTIF($AL$28:$AL$47,"?*"))} -> DOPUST
D25: Število ur, ki se ne nanaša na projektno delo: | AC25: =+AC135 -> 0
D27: Zap. št. | E27: Naziv projekta | I27: Način obračunavanja stroškov dela | Q27: Metoda urne postavke | V27: Delež razporeditve na projektu | AH27: Spremenljiv Dropdown | AI27: {=$E$28:INDEX($E$28:$E$47,COUNTIF($E$28:$E$47,"?*"))} -> 0 | AK27: Projekti s variabilnim % | AL27: Projekti z V% - urejeni | AM27: {=$AL$28:INDEX($AL$28:$AL$53,COUNTIF($AL$28:$AL$53,"?*"))} -> DOPUST | BD27: REDNE PROJEKTNE URE | BE27: Nadurno delo | BF27: =IFERROR(($L$161*(1+L162))/BE51,0) -> 0 | BG27: =+HR_POSTAVKA | DZ27: SPUSTNI SEZNAM ZA DS: | EA27: {=$EA$28:INDEX($EA$28:$EA$45,COUNTIF($EA$28:$EA$45,"?*"))} -> 0 | HK27: vsi projekti | HL27: VSI PROJEKTI UREJENI | HM27: {='Dnevna časovnica'!$HL$28:INDEX('Dnevna časovnica'!$HL$28:$HL$51,COUNTIF('Dnevna časovnica'!$HL$28:$HL$51,"?*"))} -> Nadure rednega dela
D28: =IF(E28>0,1,"") | AG28: =IF(I28="Delno zaposlen z variabilnim %",$AI$20,IF(I28="Delno zaposlen s fiksnim %","Delež na projektu","")) | AH28: =IF(I28="Delno zaposlen z variabilnim %",$AI$21,"") | AK28: =IF(I28=$AG$22,E28,"") | AL28: {=IFERROR(IF(ROWS(AL$28:AL28)>COUNTA($AK$28:$AK$54),"",INDEX($AK$28:$AK$54,SMALL(IF($AK$28:$AK$73<>"",ROW(AK$28:AK$54)-ROW($AK$28)+1),ROWS(AL$28:AL28)))),"")} -> DOPUST | AY28: Delno zaposlen s fiksnim % | AZ28: =SUMIF(I28:I47,"Delno zaposlen s fiksnim %",V28:V47) -> 0 | BD28: =SUMIFS($I$54:$I$133,$H$54:$H$133,E28,$BE$54:$BE$133,0) -> 0 | BE28: =SUMIFS($I$54:$I$133,$H$54:$H$133,E28,$AC$54:$AC$133,$BE$27) -> 0 | BF28: =IFERROR($BF$27*BE28,0) -> 0 | BG28: =+BE28*HR_POSTAVKA -> #VALUE! | DZ28: =+E28 -> 0 | EA28: {=IFERROR(IF(ROWS(EA$28:EA28)>COUNTA($DZ$28:$DZ$45),"",INDEX($DZ$28:$DZ$45,SMALL(IF($DZ$28:$DZ$73<>"",ROW(DZ$28:DZ$45)-ROW($DZ$28)+1),ROWS(EA$28:EA28)))),"")} -> 0 | HK28: =IF(I28>0,E28,"") | HL28: {=IFERROR(IF(ROWS(HL$28:HL28)>COUNTA($HK$28:$HK$54),"",INDEX($HK$28:$HK$54,SMALL(IF($HK$28:$HK$73<>"",ROW(HK$28:HK$54)-ROW($HK$28)+1),ROWS(HL$28:HL28)))),"")} -> Nadure rednega dela
AG29: =IF(I29="Delno zaposlen z variabilnim %",$AI$20,IF(I29="Delno zaposlen s fiksnim %","Delež na projektu","")) | AH29: =IF(I29="Delno zaposlen z variabilnim %",$AI$21,"") | AK29: =IF(I29=$AG$22,E29,"") | AL29: {=IFERROR(IF(ROWS(AL$28:AL29)>COUNTA($AK$28:$AK$54),"",INDEX($AK$28:$AK$54,SMALL(IF($AK$28:$AK$73<>"",ROW(AK$28:AK$54)-ROW($AK$28)+1),ROWS(AL$28:AL29)))),"")} -> BOLNIŠKA | BD29: =SUMIFS($I$54:$I$133,$H$54:$H$133,E29,$BE$54:$BE$133,0) -> 0 | BE29: =SUMIFS($I$54:$I$133,$H$54:$H$133,E29,$AC$54:$AC$133,$BE$27) -> 0 | BF29: =+$BF$27*BE29 -> 0 | BG29: =+BE29*HR_POSTAVKA -> #VALUE! | DZ29: =+E31 -> 0 | EA29: {=IFERROR(IF(ROWS(EA$28:EA29)>COUNTA($DZ$28:$DZ$45),"",INDEX($DZ$28:$DZ$45,SMALL(IF($DZ$28:$DZ$73<>"",ROW(DZ$28:DZ$45)-ROW($DZ$28)+1),ROWS(EA$28:EA29)))),"")} -> 0 | HK29: =IF(I29>0,E29,"") | HL29: {=IFERROR(IF(ROWS(HL$28:HL29)>COUNTA($HK$28:$HK$54),"",INDEX($HK$28:$HK$54,SMALL(IF($HK$28:$HK$73<>"",ROW(HK$28:HK$54)-ROW($HK$28)+1),ROWS(HL$28:HL29)))),"")}
AG30: =IF(I30="Delno zaposlen z variabilnim %",$AI$20,IF(I30="Delno zaposlen s fiksnim %","Delež na projektu","")) | AH30: =IF(I30="Delno zaposlen z variabilnim %",$AI$21,"") | AK30: =IF(I30=$AG$22,E30,"") | AL30: {=IFERROR(IF(ROWS(AL$28:AL30)>COUNTA($AK$28:$AK$54),"",INDEX($AK$28:$AK$54,SMALL(IF($AK$28:$AK$73<>"",ROW(AK$28:AK$54)-ROW($AK$28)+1),ROWS(AL$28:AL30)))),"")} -> PRAZNIK | BD30: =SUMIFS($I$54:$I$133,$H$54:$H$133,E30,$BE$54:$BE$133,0) -> 0 | BE30: =SUMIFS($I$54:$I$133,$H$54:$H$133,E30,$AC$54:$AC$133,$BE$27) -> 0 | BF30: =+$BF$27*BE30 -> 0 | BG30: =+BE30*HR_POSTAVKA -> #VALUE! | DZ30: =+E32 -> 0 | EA30: {=IFERROR(IF(ROWS(EA$28:EA30)>COUNTA($DZ$28:$DZ$45),"",INDEX($DZ$28:$DZ$45,SMALL(IF($DZ$28:$DZ$73<>"",ROW(DZ$28:DZ$45)-ROW($DZ$28)+1),ROWS(EA$28:EA30)))),"")} -> 0 | HK30: =IF(I30>0,E30,"") | HL30: {=IFERROR(IF(ROWS(HL$28:HL30)>COUNTA($HK$28:$HK$54),"",INDEX($HK$28:$HK$54,SMALL(IF($HK$28:$HK$73<>"",ROW(HK$28:HK$54)-ROW($HK$28)+1),ROWS(HL$28:HL30)))),"")}
D31: =IF(E31>0,D28+1,"") | AG31: =IF(I31="Delno zaposlen z variabilnim %",$AI$20,IF(I31="Delno zaposlen s fiksnim %","Delež na projektu","")) | AH31: =IF(I31="Delno zaposlen z variabilnim %",$AI$21,"") | AJ31: =IF(OR($Q$28:$Q$47="Letna urna postavka"),"Letna Bruto plača (BRUTO I)","ni letne") -> ni letne | AK31: =IF(I31=$AG$22,E31,"") | AL31: {=IFERROR(IF(ROWS(AL$28:AL31)>COUNTA($AK$28:$AK$54),"",INDEX($AK$28:$AK$54,SMALL(IF($AK$28:$AK$73<>"",ROW(AK$28:AK$54)-ROW($AK$28)+1),ROWS(AL$28:AL31)))),"")} -> DRUGA REFUNDIRANA NADOMESTILA | AY31: Delno zaposlen z variabilnim % | AZ31: =SUMIF(I28:I47,"Delno zaposlen z variabilnim %",V28:V47) -> 0 | BD31: =SUMIFS($I$54:$I$133,$H$54:$H$133,E31,$BE$54:$BE$133,0) -> 0 | BE31: =SUMIFS($I$54:$I$133,$H$54:$H$133,E31,$AC$54:$AC$133,$BE$27) -> 0 | BF31: =IFERROR($BF$27*BE31,0) -> 0 | BG31: =+BE31*HR_POSTAVKA -> #VALUE! | DZ31: =+E33 -> 0 | EA31: {=IFERROR(IF(ROWS(EA$28:EA31)>COUNTA($DZ$28:$DZ$45),"",INDEX($DZ$28:$DZ$45,SMALL(IF($DZ$28:$DZ$73<>"",ROW(DZ$28:DZ$45)-ROW($DZ$28)+1),ROWS(EA$28:EA31)))),"")} -> 0 | HK31: =IF(I31>0,E31,"") | HL31: {=IFERROR(IF(ROWS(HL$28:HL31)>COUNTA($HK$28:$HK$54),"",INDEX($HK$28:$HK$54,SMALL(IF($HK$28:$HK$73<>"",ROW(HK$28:HK$54)-ROW($HK$28)+1),ROWS(HL$28:HL31)))),"")}
D32: =IF(E32>0,D31+1,"") | AG32: =IF(I32="Delno zaposlen z variabilnim %",$AI$20,IF(I32="Delno zaposlen s fiksnim %","Delež na projektu","")) | AH32: =IF(I32="Delno zaposlen z variabilnim %",$AI$21,"") | AJ32: =IF(OR($Q$28:$Q$47="Letna urna postavka"),"Letna Bruto plača (BRUTO I)","ni letne") -> ni letne | AK32: =IF(I32=$AG$22,E32,"") | AL32: {=IFERROR(IF(ROWS(AL$28:AL32)>COUNTA($AK$28:$AK$54),"",INDEX($AK$28:$AK$54,SMALL(IF($AK$28:$AK$73<>"",ROW(AK$28:AK$54)-ROW($AK$28)+1),ROWS(AL$28:AL32)))),"")} | BD32: =SUMIFS($I$54:$I$133,$H$54:$H$133,E32,$BE$54:$BE$133,0) -> 0 | BE32: =SUMIFS($I$54:$I$133,$H$54:$H$133,E32,$AC$54:$AC$133,$BE$27) -> 0 | BF32: =+$BF$27*BE32 -> 0 | BG32: =+BE32*HR_POSTAVKA -> #VALUE! | DZ32: =+E34 -> 0 | EA32: {=IFERROR(IF(ROWS(EA$28:EA32)>COUNTA($DZ$28:$DZ$45),"",INDEX($DZ$28:$DZ$45,SMALL(IF($DZ$28:$DZ$73<>"",ROW(DZ$28:DZ$45)-ROW($DZ$28)+1),ROWS(EA$28:EA32)))),"")} -> 0 | HK32: =IF(I32>0,E32,"") | HL32: {=IFERROR(IF(ROWS(HL$28:HL32)>COUNTA($HK$28:$HK$54),"",INDEX($HK$28:$HK$54,SMALL(IF($HK$28:$HK$73<>"",ROW(HK$28:HK$54)-ROW($HK$28)+1),ROWS(HL$28:HL32)))),"")}
D33: =IF(E33>0,D32+1,"") | AG33: =IF(I33="Delno zaposlen z variabilnim %",$AI$20,IF(I33="Delno zaposlen s fiksnim %","Delež na projektu","")) | AH33: =IF(I33="Delno zaposlen z variabilnim %",$AI$21,"") | AK33: =IF(I33=$AG$22,E33,"") | AL33: {=IFERROR(IF(ROWS(AL$28:AL33)>COUNTA($AK$28:$AK$54),"",INDEX($AK$28:$AK$54,SMALL(IF($AK$28:$AK$73<>"",ROW(AK$28:AK$54)-ROW($AK$28)+1),ROWS(AL$28:AL33)))),"")} | BD33: =SUMIFS($I$54:$I$133,$H$54:$H$133,E33,$BE$54:$BE$133,0) -> 0 | BE33: =SUMIFS($I$54:$I$133,$H$54:$H$133,E33,$AC$54:$AC$133,$BE$27) -> 0 | BF33: =+$BF$27*BE33 -> 0 | BG33: =+BE33*HR_POSTAVKA -> #VALUE! | DZ33: =+E35 -> 0 | EA33: {=IFERROR(IF(ROWS(EA$28:EA33)>COUNTA($DZ$28:$DZ$45),"",INDEX($DZ$28:$DZ$45,SMALL(IF($DZ$28:$DZ$73<>"",ROW(DZ$28:DZ$45)-ROW($DZ$28)+1),ROWS(EA$28:EA33)))),"")} -> 0 | HK33: =IF(I33>0,E33,"") | HL33: {=IFERROR(IF(ROWS(HL$28:HL33)>COUNTA($HK$28:$HK$54),"",INDEX($HK$28:$HK$54,SMALL(IF($HK$28:$HK$73<>"",ROW(HK$28:HK$54)-ROW($HK$28)+1),ROWS(HL$28:HL33)))),"")}
D34: =IF(E34>0,D33+1,"") | AG34: =IF(I34="Delno zaposlen z variabilnim %",$AI$20,IF(I34="Delno zaposlen s fiksnim %","Delež na projektu","")) | AH34: =IF(I34="Delno zaposlen z variabilnim %",$AI$21,"") | AK34: =IF(I34=$AG$22,E34,"") | AL34: {=IFERROR(IF(ROWS(AL$28:AL34)>COUNTA($AK$28:$AK$54),"",INDEX($AK$28:$AK$54,SMALL(IF($AK$28:$AK$73<>"",ROW(AK$28:AK$54)-ROW($AK$28)+1),ROWS(AL$28:AL34)))),"")} | BD34: =SUMIFS($I$54:$I$133,$H$54:$H$133,E34,$BE$54:$BE$133,0) -> 0 | BE34: =SUMIFS($I$54:$I$133,$H$54:$H$133,E34,$AC$54:$AC$133,$BE$27) -> 0 | BF34: =+$BF$27*BE34 -> 0 | BG34: =+BE34*HR_POSTAVKA -> #VALUE! | DZ34: =+E36 -> 0 | EA34: {=IFERROR(IF(ROWS(EA$28:EA34)>COUNTA($DZ$28:$DZ$45),"",INDEX($DZ$28:$DZ$45,SMALL(IF($DZ$28:$DZ$73<>"",ROW(DZ$28:DZ$45)-ROW($DZ$28)+1),ROWS(EA$28:EA34)))),"")} -> 0 | HK34: =IF(I34>0,E34,"") | HL34: {=IFERROR(IF(ROWS(HL$28:HL34)>COUNTA($HK$28:$HK$54),"",INDEX($HK$28:$HK$54,SMALL(IF($HK$28:$HK$73<>"",ROW(HK$28:HK$54)-ROW($HK$28)+1),ROWS(HL$28:HL34)))),"")}
D35: =IF(E35>0,D34+1,"") | AG35: =IF(I35="Delno zaposlen z variabilnim %",$AI$20,IF(I35="Delno zaposlen s fiksnim %","Delež na projektu","")) | AH35: =IF(I35="Delno zaposlen z variabilnim %",$AI$21,"") | AK35: =IF(I35=$AG$22,E35,"") | AL35: {=IFERROR(IF(ROWS(AL$28:AL35)>COUNTA($AK$28:$AK$54),"",INDEX($AK$28:$AK$54,SMALL(IF($AK$28:$AK$73<>"",ROW(AK$28:AK$54)-ROW($AK$28)+1),ROWS(AL$28:AL35)))),"")} | BD35: =SUMIFS($I$54:$I$133,$H$54:$H$133,E35,$BE$54:$BE$133,0) -> 0 | BE35: =SUMIFS($I$54:$I$133,$H$54:$H$133,E35,$AC$54:$AC$133,$BE$27) -> 0 | BF35: =+$BF$27*BE35 -> 0 | BG35: =+BE35*HR_POSTAVKA -> #VALUE! | DZ35: =+E37 -> 0 | EA35: {=IFERROR(IF(ROWS(EA$28:EA35)>COUNTA($DZ$28:$DZ$45),"",INDEX($DZ$28:$DZ$45,SMALL(IF($DZ$28:$DZ$73<>"",ROW(DZ$28:DZ$45)-ROW($DZ$28)+1),ROWS(EA$28:EA35)))),"")} -> 0 | HK35: =IF(I35>0,E35,"") | HL35: {=IFERROR(IF(ROWS(HL$28:HL35)>COUNTA($HK$28:$HK$54),"",INDEX($HK$28:$HK$54,SMALL(IF($HK$28:$HK$73<>"",ROW(HK$28:HK$54)-ROW($HK$28)+1),ROWS(HL$28:HL35)))),"")}
D36: =IF(E36>0,D35+1,"") | AG36: =IF(I36="Delno zaposlen z variabilnim %",$AI$20,IF(I36="Delno zaposlen s fiksnim %","Delež na projektu","")) | AH36: =IF(I36="Delno zaposlen z variabilnim %",$AI$21,"") | AK36: =IF(I36=$AG$22,E36,"") | AL36: {=IFERROR(IF(ROWS(AL$28:AL36)>COUNTA($AK$28:$AK$54),"",INDEX($AK$28:$AK$54,SMALL(IF($AK$28:$AK$73<>"",ROW(AK$28:AK$54)-ROW($AK$28)+1),ROWS(AL$28:AL36)))),"")} | BD36: =SUMIFS($I$54:$I$133,$H$54:$H$133,E36,$BE$54:$BE$133,0) -> 0 | BE36: =SUMIFS($I$54:$I$133,$H$54:$H$133,E36,$AC$54:$AC$133,$BE$27) -> 0 | BF36: =+$BF$27*BE36 -> 0 | BG36: =+BE36*HR_POSTAVKA -> #VALUE! | DZ36: =+E38 -> 0 | EA36: {=IFERROR(IF(ROWS(EA$28:EA36)>COUNTA($DZ$28:$DZ$45),"",INDEX($DZ$28:$DZ$45,SMALL(IF($DZ$28:$DZ$73<>"",ROW(DZ$28:DZ$45)-ROW($DZ$28)+1),ROWS(EA$28:EA36)))),"")} -> 0 | HK36: =IF(I36>0,E36,"") | HL36: {=IFERROR(IF(ROWS(HL$28:HL36)>COUNTA($HK$28:$HK$54),"",INDEX($HK$28:$HK$54,SMALL(IF($HK$28:$HK$73<>"",ROW(HK$28:HK$54)-ROW($HK$28)+1),ROWS(HL$28:HL36)))),"")}
D37: =IF(E37>0,D36+1,"") | AG37: =IF(I37="Delno zaposlen z variabilnim %",$AI$20,IF(I37="Delno zaposlen s fiksnim %","Delež na projektu","")) | AH37: =IF(I37="Delno zaposlen z variabilnim %",$AI$21,"") | AK37: =IF(I37=$AG$22,E37,"") | AL37: {=IFERROR(IF(ROWS(AL$28:AL37)>COUNTA($AK$28:$AK$54),"",INDEX($AK$28:$AK$54,SMALL(IF($AK$28:$AK$73<>"",ROW(AK$28:AK$54)-ROW($AK$28)+1),ROWS(AL$28:AL37)))),"")} | BD37: =SUMIFS($I$54:$I$133,$H$54:$H$133,E37,$BE$54:$BE$133,0) -> 0 | BE37: =SUMIFS($I$54:$I$133,$H$54:$H$133,E37,$AC$54:$AC$133,$BE$27) -> 0 | BF37: =+$BF$27*BE37 -> 0 | BG37: =+BE37*HR_POSTAVKA -> #VALUE! | DZ37: =+E39 -> 0 | EA37: {=IFERROR(IF(ROWS(EA$28:EA37)>COUNTA($DZ$28:$DZ$45),"",INDEX($DZ$28:$DZ$45,SMALL(IF($DZ$28:$DZ$73<>"",ROW(DZ$28:DZ$45)-ROW($DZ$28)+1),ROWS(EA$28:EA37)))),"")} -> 0 | HK37: =IF(I37>0,E37,"") | HL37: {=IFERROR(IF(ROWS(HL$28:HL37)>COUNTA($HK$28:$HK$54),"",INDEX($HK$28:$HK$54,SMALL(IF($HK$28:$HK$73<>"",ROW(HK$28:HK$54)-ROW($HK$28)+1),ROWS(HL$28:HL37)))),"")}
D38: =IF(E38>0,D37+1,"") | AG38: =IF(I38="Delno zaposlen z variabilnim %",$AI$20,IF(I38="Delno zaposlen s fiksnim %","Delež na projektu","")) | AH38: =IF(I38="Delno zaposlen z variabilnim %",$AI$21,"") | AK38: =IF(I38=$AG$22,E38,"") | AL38: {=IFERROR(IF(ROWS(AL$28:AL38)>COUNTA($AK$28:$AK$54),"",INDEX($AK$28:$AK$54,SMALL(IF($AK$28:$AK$73<>"",ROW(AK$28:AK$54)-ROW($AK$28)+1),ROWS(AL$28:AL38)))),"")} | BD38: =SUMIFS($I$54:$I$133,$H$54:$H$133,E38,$BE$54:$BE$133,0) -> 0 | BE38: =SUMIFS($I$54:$I$133,$H$54:$H$133,E38,$AC$54:$AC$133,$BE$27) -> 0 | BF38: =+$BF$27*BE38 -> 0 | BG38: =+BE38*HR_POSTAVKA -> #VALUE! | DZ38: =+E40 -> 0 | EA38: {=IFERROR(IF(ROWS(EA$28:EA38)>COUNTA($DZ$28:$DZ$45),"",INDEX($DZ$28:$DZ$45,SMALL(IF($DZ$28:$DZ$73<>"",ROW(DZ$28:DZ$45)-ROW($DZ$28)+1),ROWS(EA$28:EA38)))),"")} -> 0 | HK38: =IF(I38>0,E38,"") | HL38: {=IFERROR(IF(ROWS(HL$28:HL38)>COUNTA($HK$28:$HK$54),"",INDEX($HK$28:$HK$54,SMALL(IF($HK$28:$HK$73<>"",ROW(HK$28:HK$54)-ROW($HK$28)+1),ROWS(HL$28:HL38)))),"")}
D39: =IF(E39>0,D38+1,"") | AG39: =IF(I39="Delno zaposlen z variabilnim %",$AI$20,IF(I39="Delno zaposlen s fiksnim %","Delež na projektu","")) | AH39: =IF(I39="Delno zaposlen z variabilnim %",$AI$21,"") | AK39: =IF(I39=$AG$22,E39,"") | AL39: {=IFERROR(IF(ROWS(AL$28:AL39)>COUNTA($AK$28:$AK$54),"",INDEX($AK$28:$AK$54,SMALL(IF($AK$28:$AK$73<>"",ROW(AK$28:AK$54)-ROW($AK$28)+1),ROWS(AL$28:AL39)))),"")} | BD39: =SUMIFS($I$54:$I$133,$H$54:$H$133,E39,$BE$54:$BE$133,0) -> 0 | BE39: =SUMIFS($I$54:$I$133,$H$54:$H$133,E39,$AC$54:$AC$133,$BE$27) -> 0 | BF39: =+$BF$27*BE39 -> 0 | BG39: =+BE39*HR_POSTAVKA -> #VALUE! | DZ39: =+E41 -> 0 | EA39: {=IFERROR(IF(ROWS(EA$28:EA39)>COUNTA($DZ$28:$DZ$45),"",INDEX($DZ$28:$DZ$45,SMALL(IF($DZ$28:$DZ$73<>"",ROW(DZ$28:DZ$45)-ROW($DZ$28)+1),ROWS(EA$28:EA39)))),"")} -> 0 | HK39: =IF(I39>0,E39,"") | HL39: {=IFERROR(IF(ROWS(HL$28:HL39)>COUNTA($HK$28:$HK$54),"",INDEX($HK$28:$HK$54,SMALL(IF($HK$28:$HK$73<>"",ROW(HK$28:HK$54)-ROW($HK$28)+1),ROWS(HL$28:HL39)))),"")}
D40: =IF(E40>0,D39+1,"") | AG40: =IF(I40="Delno zaposlen z variabilnim %",$AI$20,IF(I40="Delno zaposlen s fiksnim %","Delež na projektu","")) | AH40: =IF(I40="Delno zaposlen z variabilnim %",$AI$21,"") | AK40: =IF(I40=$AG$22,E40,"") | AL40: {=IFERROR(IF(ROWS(AL$28:AL40)>COUNTA($AK$28:$AK$54),"",INDEX($AK$28:$AK$54,SMALL(IF($AK$28:$AK$73<>"",ROW(AK$28:AK$54)-ROW($AK$28)+1),ROWS(AL$28:AL40)))),"")} | BD40: =SUMIFS($I$54:$I$133,$H$54:$H$133,E40,$BE$54:$BE$133,0) -> 0 | BE40: =SUMIFS($I$54:$I$133,$H$54:$H$133,E40,$AC$54:$AC$133,$BE$27) -> 0 | BF40: =+$BF$27*BE40 -> 0 | BG40: =+BE40*HR_POSTAVKA -> #VALUE! | DZ40: =+E42 -> 0 | EA40: {=IFERROR(IF(ROWS(EA$28:EA40)>COUNTA($DZ$28:$DZ$45),"",INDEX($DZ$28:$DZ$45,SMALL(IF($DZ$28:$DZ$73<>"",ROW(DZ$28:DZ$45)-ROW($DZ$28)+1),ROWS(EA$28:EA40)))),"")} -> 0 | HK40: =IF(I40>0,E40,"") | HL40: {=IFERROR(IF(ROWS(HL$28:HL40)>COUNTA($HK$28:$HK$54),"",INDEX($HK$28:$HK$54,SMALL(IF($HK$28:$HK$73<>"",ROW(HK$28:HK$54)-ROW($HK$28)+1),ROWS(HL$28:HL40)))),"")}
D41: =IF(E41>0,D40+1,"") | AG41: =IF(I41="Delno zaposlen z variabilnim %",$AI$20,IF(I41="Delno zaposlen s fiksnim %","Delež na projektu","")) | AH41: =IF(I41="Delno zaposlen z variabilnim %",$AI$21,"") | AK41: =IF(I41=$AG$22,E41,"") | AL41: {=IFERROR(IF(ROWS(AL$28:AL41)>COUNTA($AK$28:$AK$54),"",INDEX($AK$28:$AK$54,SMALL(IF($AK$28:$AK$73<>"",ROW(AK$28:AK$54)-ROW($AK$28)+1),ROWS(AL$28:AL41)))),"")} | BD41: =SUMIFS($I$54:$I$133,$H$54:$H$133,E41,$BE$54:$BE$133,0) -> 0 | BE41: =SUMIFS($I$54:$I$133,$H$54:$H$133,E41,$AC$54:$AC$133,$BE$27) -> 0 | BF41: =+$BF$27*BE41 -> 0 | BG41: =+BE41*HR_POSTAVKA -> #VALUE! | DZ41: =+E43 -> 0 | EA41: {=IFERROR(IF(ROWS(EA$28:EA41)>COUNTA($DZ$28:$DZ$45),"",INDEX($DZ$28:$DZ$45,SMALL(IF($DZ$28:$DZ$73<>"",ROW(DZ$28:DZ$45)-ROW($DZ$28)+1),ROWS(EA$28:EA41)))),"")} -> 0 | HK41: =IF(I41>0,E41,"") | HL41: {=IFERROR(IF(ROWS(HL$28:HL41)>COUNTA($HK$28:$HK$54),"",INDEX($HK$28:$HK$54,SMALL(IF($HK$28:$HK$73<>"",ROW(HK$28:HK$54)-ROW($HK$28)+1),ROWS(HL$28:HL41)))),"")}
D42: =IF(E42>0,D41+1,"") | AG42: =IF(I42="Delno zaposlen z variabilnim %",$AI$20,IF(I42="Delno zaposlen s fiksnim %","Delež na projektu","")) | AH42: =IF(I42="Delno zaposlen z variabilnim %",$AI$21,"") | AK42: =IF(I42=$AG$22,E42,"") | AL42: {=IFERROR(IF(ROWS(AL$28:AL42)>COUNTA($AK$28:$AK$54),"",INDEX($AK$28:$AK$54,SMALL(IF($AK$28:$AK$73<>"",ROW(AK$28:AK$54)-ROW($AK$28)+1),ROWS(AL$28:AL42)))),"")} | BD42: =SUMIFS($I$54:$I$133,$H$54:$H$133,E42,$BE$54:$BE$133,0) -> 0 | BE42: =SUMIFS($I$54:$I$133,$H$54:$H$133,E42,$AC$54:$AC$133,$BE$27) -> 0 | BF42: =+$BF$27*BE42 -> 0 | BG42: =+BE42*HR_POSTAVKA -> #VALUE! | DZ42: =+E44 -> 0 | EA42: {=IFERROR(IF(ROWS(EA$28:EA42)>COUNTA($DZ$28:$DZ$45),"",INDEX($DZ$28:$DZ$45,SMALL(IF($DZ$28:$DZ$73<>"",ROW(DZ$28:DZ$45)-ROW($DZ$28)+1),ROWS(EA$28:EA42)))),"")} -> 0 | HK42: =IF(I42>0,E42,"") | HL42: {=IFERROR(IF(ROWS(HL$28:HL42)>COUNTA($HK$28:$HK$54),"",INDEX($HK$28:$HK$54,SMALL(IF($HK$28:$HK$73<>"",ROW(HK$28:HK$54)-ROW($HK$28)+1),ROWS(HL$28:HL42)))),"")}
D43: =IF(E43>0,D42+1,"") | AG43: =IF(I43="Delno zaposlen z variabilnim %",$AI$20,IF(I43="Delno zaposlen s fiksnim %","Delež na projektu","")) | AH43: =IF(I43="Delno zaposlen z variabilnim %",$AI$21,"") | AK43: =IF(I43=$AG$22,E43,"") | AL43: {=IFERROR(IF(ROWS(AL$28:AL43)>COUNTA($AK$28:$AK$54),"",INDEX($AK$28:$AK$54,SMALL(IF($AK$28:$AK$73<>"",ROW(AK$28:AK$54)-ROW($AK$28)+1),ROWS(AL$28:AL43)))),"")} | BD43: =SUMIFS($I$54:$I$133,$H$54:$H$133,E43,$BE$54:$BE$133,0) -> 0 | BE43: =SUMIFS($I$54:$I$133,$H$54:$H$133,E43,$AC$54:$AC$133,$BE$27) -> 0 | BF43: =+$BF$27*BE43 -> 0 | BG43: =+BE43*HR_POSTAVKA -> #VALUE! | DZ43: =+E45 -> 0 | EA43: {=IFERROR(IF(ROWS(EA$28:EA43)>COUNTA($DZ$28:$DZ$45),"",INDEX($DZ$28:$DZ$45,SMALL(IF($DZ$28:$DZ$73<>"",ROW(DZ$28:DZ$45)-ROW($DZ$28)+1),ROWS(EA$28:EA43)))),"")} -> 0 | HK43: =IF(I43>0,E43,"") | HL43: {=IFERROR(IF(ROWS(HL$28:HL43)>COUNTA($HK$28:$HK$54),"",INDEX($HK$28:$HK$54,SMALL(IF($HK$28:$HK$73<>"",ROW(HK$28:HK$54)-ROW($HK$28)+1),ROWS(HL$28:HL43)))),"")}
D44: =IF(E44>0,D43+1,"") | AG44: =IF(I44="Delno zaposlen z variabilnim %",$AI$20,IF(I44="Delno zaposlen s fiksnim %","Delež na projektu","")) | AH44: =IF(I44="Delno zaposlen z variabilnim %",$AI$21,"") | AK44: =IF(I44=$AG$22,E44,"") | AL44: {=IFERROR(IF(ROWS(AL$28:AL44)>COUNTA($AK$28:$AK$54),"",INDEX($AK$28:$AK$54,SMALL(IF($AK$28:$AK$73<>"",ROW(AK$28:AK$54)-ROW($AK$28)+1),ROWS(AL$28:AL44)))),"")} | BD44: =SUMIFS($I$54:$I$133,$H$54:$H$133,E44,$BE$54:$BE$133,0) -> 0 | BE44: =SUMIFS($I$54:$I$133,$H$54:$H$133,E44,$AC$54:$AC$133,$BE$27) -> 0 | BF44: =+$BF$27*BE44 -> 0 | BG44: =+BE44*HR_POSTAVKA -> #VALUE! | DZ44: =+E46 -> 0 | EA44: {=IFERROR(IF(ROWS(EA$28:EA44)>COUNTA($DZ$28:$DZ$45),"",INDEX($DZ$28:$DZ$45,SMALL(IF($DZ$28:$DZ$73<>"",ROW(DZ$28:DZ$45)-ROW($DZ$28)+1),ROWS(EA$28:EA44)))),"")} -> 0 | HK44: =IF(I44>0,E44,"") | HL44: {=IFERROR(IF(ROWS(HL$28:HL44)>COUNTA($HK$28:$HK$54),"",INDEX($HK$28:$HK$54,SMALL(IF($HK$28:$HK$73<>"",ROW(HK$28:HK$54)-ROW($HK$28)+1),ROWS(HL$28:HL44)))),"")}
D45: =IF(E45>0,D44+1,"") | AG45: =IF(I45="Delno zaposlen z variabilnim %",$AI$20,IF(I45="Delno zaposlen s fiksnim %","Delež na projektu","")) | AH45: =IF(I45="Delno zaposlen z variabilnim %",$AI$21,"") | AK45: =IF(I45=$AG$22,E45,"") | AL45: {=IFERROR(IF(ROWS(AL$28:AL45)>COUNTA($AK$28:$AK$54),"",INDEX($AK$28:$AK$54,SMALL(IF($AK$28:$AK$73<>"",ROW(AK$28:AK$54)-ROW($AK$28)+1),ROWS(AL$28:AL45)))),"")} | BD45: =SUMIFS($I$54:$I$133,$H$54:$H$133,E45,$BE$54:$BE$133,0) -> 0 | BE45: =SUMIFS($I$54:$I$133,$H$54:$H$133,E45,$AC$54:$AC$133,$BE$27) -> 0 | BF45: =+$BF$27*BE45 -> 0 | BG45: =+BE45*HR_POSTAVKA -> #VALUE! | DZ45: =+E47 -> 0 | EA45: {=IFERROR(IF(ROWS(EA$28:EA45)>COUNTA($DZ$28:$DZ$45),"",INDEX($DZ$28:$DZ$45,SMALL(IF($DZ$28:$DZ$73<>"",ROW(DZ$28:DZ$45)-ROW($DZ$28)+1),ROWS(EA$28:EA45)))),"")} -> 0 | HK45: =IF(I45>0,E45,"") | HL45: {=IFERROR(IF(ROWS(HL$28:HL45)>COUNTA($HK$28:$HK$54),"",INDEX($HK$28:$HK$54,SMALL(IF($HK$28:$HK$73<>"",ROW(HK$28:HK$54)-ROW($HK$28)+1),ROWS(HL$28:HL45)))),"")}
D46: =IF(E46>0,D45+1,"") | AG46: =IF(I46="Delno zaposlen z variabilnim %",$AI$20,IF(I46="Delno zaposlen s fiksnim %","Delež na projektu","")) | AH46: =IF(I46="Delno zaposlen z variabilnim %",$AI$21,"") | AK46: =IF(I46=$AG$22,E46,"") | AL46: {=IFERROR(IF(ROWS(AL$28:AL46)>COUNTA($AK$28:$AK$54),"",INDEX($AK$28:$AK$54,SMALL(IF($AK$28:$AK$73<>"",ROW(AK$28:AK$54)-ROW($AK$28)+1),ROWS(AL$28:AL46)))),"")} | BD46: =SUMIFS($I$54:$I$133,$H$54:$H$133,E46,$BE$54:$BE$133,0) -> 0 | BE46: =SUMIFS($I$54:$I$133,$H$54:$H$133,E46,$AC$54:$AC$133,$BE$27) -> 0 | BF46: =+$BF$27*BE46 -> 0 | BG46: =+BE46*HR_POSTAVKA -> #VALUE! | HK46: =IF(I46>0,E46,"") | HL46: {=IFERROR(IF(ROWS(HL$28:HL46)>COUNTA($HK$28:$HK$54),"",INDEX($HK$28:$HK$54,SMALL(IF($HK$28:$HK$73<>"",ROW(HK$28:HK$54)-ROW($HK$28)+1),ROWS(HL$28:HL46)))),"")}
D47: =IF(E47>0,D46+1,"") | AG47: =IF(I47="Delno zaposlen z variabilnim %",$AI$20,IF(I47="Delno zaposlen s fiksnim %","Delež na projektu","")) | AH47: =IF(I47="Delno zaposlen z variabilnim %",$AI$21,"") | AK47: =IF(I47=$AG$22,E47,"") | AL47: {=IFERROR(IF(ROWS(AL$28:AL47)>COUNTA($AK$28:$AK$54),"",INDEX($AK$28:$AK$54,SMALL(IF($AK$28:$AK$73<>"",ROW(AK$28:AK$54)-ROW($AK$28)+1),ROWS(AL$28:AL47)))),"")} | BD47: =SUMIFS($I$54:$I$133,$H$54:$H$133,E47,$BE$54:$BE$133,0) -> 0 | BE47: =SUMIFS($I$54:$I$133,$H$54:$H$133,E47,$AC$54:$AC$133,$BE$27) -> 0 | BF47: =+$BF$27*BE47 -> 0 | BG47: =+BE47*HR_POSTAVKA -> #VALUE! | DR47: DRUGA REFUNDIRANA NADOMESTILA | HK47: =IF(I47>0,E47,"") | HL47: {=IFERROR(IF(ROWS(HL$28:HL47)>COUNTA($HK$28:$HK$54),"",INDEX($HK$28:$HK$54,SMALL(IF($HK$28:$HK$73<>"",ROW(HK$28:HK$54)-ROW($HK$28)+1),ROWS(HL$28:HL47)))),"")}
BC48: REDNE AKTIVNOSTI | BD48: =RU -> 0 | BE48: =SUMIFS($I$54:$I$133,$H$54:$H$133,BC49,$AC$54:$AC$133,$BE$27) -> 0 | BF48: =+$BF$27*BE48 -> 0 | HK48: Nadure rednega dela | HL48: {=IFERROR(IF(ROWS(HL$28:HL48)>COUNTA($HK$28:$HK$54),"",INDEX($HK$28:$HK$54,SMALL(IF($HK$28:$HK$73<>"",ROW(HK$28:HK$54)-ROW($HK$28)+1),ROWS(HL$28:HL48)))),"")}
BC49: Nadure rednega dela | HL49: {=IFERROR(IF(ROWS(HL$28:HL49)>COUNTA($HK$28:$HK$54),"",INDEX($HK$28:$HK$54,SMALL(IF($HK$28:$HK$73<>"",ROW(HK$28:HK$54)-ROW($HK$28)+1),ROWS(HL$28:HL49)))),"")}
Q50: =IF(SUMIF(I28:I47,"Delno zaposlen s fiksnim %",V28:V47)>1,"PREVERITE % FIKSNE RAZPOREDITVE","") | AJ50: =SUMIF($H$54:$H$133,$AK50,$I$54:$I$137) -> 0 | AK50: DOPUST | AL50: {=IFERROR(IF(ROWS(AL$28:AL50)>COUNTA($AK$28:$AK$54),"",INDEX($AK$28:$AK$54,SMALL(IF($AK$28:$AK$73<>"",ROW(AK$28:AK$54)-ROW($AK$28)+1),ROWS(AL$28:AL50)))),"")} | DR50: DOPUST | HL50: {=IFERROR(IF(ROWS(HL$28:HL50)>COUNTA($HK$28:$HK$54),"",INDEX($HK$28:$HK$54,SMALL(IF($HK$28:$HK$73<>"",ROW(HK$28:HK$54)-ROW($HK$28)+1),ROWS(HL$28:HL50)))),"")}
...

Sheet Izračun letne urne postavke
C8: IZRAČUN LETNE URNE POSTAVKE
D11: I. SPLOŠNI PODATKI
D12: =IF(J13="","","Št. dok.: " & J13 &" - " &TEXT(J21,"YYY") &"/" &TEXT(J22,"YYYY"))
D13: Ime in priimek | J13: =IF('Dnevna časovnica'!I13=0,"",'Dnevna časovnica'!I13) | AP13: 0
D14: Program sodelovanja | J14: =IF('Dnevna časovnica'!I14=0,"",'Dnevna časovnica'!I14) | AP14: 0.161
D15: Naziv projekta | J15: =IF('Dnevna časovnica'!I15=0,"",'Dnevna časovnica'!I15) | AP15: 0.1634
D16: Vloga na projektu | J16: =IF('Dnevna časovnica'!I16=0,"",'Dnevna časovnica'!I16) | AP16: 0.1604
D17: Redno zaposlen pri | J17: =IF('Dnevna časovnica'!I17=0,"",'Dnevna časovnica'!I17) | AP17: 0.1167
AP18: 0.1344
D19: Obračunsko obdobje
D21: Začetek obračunskega obdobja
D22: Konec obračunskega obdobja | J22: =IF(J21=0,"",DATE(YEAR(J21)+1,MONTH(J21),DAY(J21)))
D27: II. IZDATKI ZA DELO
I30: Bruto plača (BRUTO I) | K30: Prispevki in davki delodajalca | V30: Malica in prevoz | Z30: Drugi upravičeni izdatki iz delovnega razmerja | AI30: SKUPAJ
K31: % | Q31: znesek | Z31: znesek | AC31: opomba
D33: 1 | E33: =IF(J21=0,"",J21) | Q33: =+K33*I33 -> 0 | AI33: =+Z33+V33+Q33+I33 -> 0
D35: 2 | E35: =IFERROR(DATE(YEAR(E33),MONTH(E33)+1,DAY(E33)),"") | Q35: =+K35*I35 -> 0 | AI35: =+Z35+V35+Q35+I35 -> 0
D37: 3 | E37: =IFERROR(DATE(YEAR(E35),MONTH(E35)+1,DAY(E35)),"") | Q37: =+K37*I37 -> 0 | AI37: =+Z37+V37+Q37+I37 -> 0
D39: 4 | E39: =IFERROR(DATE(YEAR(E37),MONTH(E37)+1,DAY(E37)),"") | Q39: =+K39*I39 -> 0 | AI39: =+Z39+V39+Q39+I39 -> 0
D41: 5 | E41: =IFERROR(DATE(YEAR(E39),MONTH(E39)+1,DAY(E39)),"") | Q41: =+K41*I41 -> 0 | AI41: =+Z41+V41+Q41+I41 -> 0
D43: 6 | E43: =IFERROR(DATE(YEAR(E41),MONTH(E41)+1,DAY(E41)),"") | Q43: =+K43*I43 -> 0 | AI43: =+Z43+V43+Q43+I43 -> 0
D45: 7 | E45: =IFERROR(DATE(YEAR(E43),MONTH(E43)+1,DAY(E43)),"") | Q45: =+K45*I45 -> 0 | AI45: =+Z45+V45+Q45+I45 -> 0
D47: 8 | E47: =IFERROR(DATE(YEAR(E45),MONTH(E45)+1,DAY(E45)),"") | Q47: =+K47*I47 -> 0 | AI47: =+Z47+V47+Q47+I47 -> 0
D49: 9 | E49: =IFERROR(DATE(YEAR(E47),MONTH(E47)+1,DAY(E47)),"") | Q49: =+K49*I49 -> 0 | AI49: =+Z49+V49+Q49+I49 -> 0
D51: 10 | E51: =IFERROR(DATE(YEAR(E49),MONTH(E49)+1,DAY(E49)),"") | Q51: =+K51*I51 -> 0 | AI51: =+Z51+V51+Q51+I51 -> 0
D53: 11 | E53: =IFERROR(DATE(YEAR(E51),MONTH(E51)+1,DAY(E51)),"") | Q53: =+K53*I53 -> 0 | AI53: =+Z53+V53+Q53+I53 -> 0
D55: 12 | E55: =IFERROR(DATE(YEAR(E53),MONTH(E53)+1,DAY(E53)),"") | Q55: =+K55*I55 -> 0 | AI55: =+Z55+V55+Q55+I55 -> 0
AI57: =+AI55+AI53+AI51+AI49+AI47+AI45+AI43+AI41+AI39+AI37+AI35+AI33 -> 0
E59: VIŠINA LETNE URNE POSTAVKE | AI59: =+AI57/1720 -> 0
D62: III. IZJAVA
D64: - Izjavljam tudi, da podatki o izdatkih za celotno mesečno delo odražajo resnično in pravilno višino vseh izdatkov za delo osebe, redno zaposlene pri projektnemu partnerju. | E64: - Izjavljam, da podatki o izdatkih po mesecih odražajo resnično in pravilno višino vseh izdatkov za delo osebe, redno zaposlene pri projektnemu partnerju.
E69: Naziv organizacije | T69: Podpis odgovorne osebe in žig organizacije (v kolikor posluje z žigom)
E71: =J17
E75: Podpis zaposlene osebe | T75: Datum
